BEGIN:VCALENDAR
VERSION:2.0
PRODID:-//ChamberMaster//Event Calendar 2.0//EN
METHOD:PUBLISH
X-PUBLISHED-TTL:P3D
REFRESH-INTERVAL:P3D
CALSCALE:GREGORIAN
BEGIN:VEVENT
DTSTART:20180416T233000Z
DTEND:20180417T000000Z
X-MICROSOFT-CDO-ALLDAYEVENT:FALSE
SUMMARY:Grand Opening & Ribbon Cutting: MY SALON Suite
DESCRIPTION:Join us for the grand opening celebration of MY SALON Suite in Westminster.  A ribbon cutting will take place from 5:30-6:00PM.
X-ALT-DESC;FMTTYPE=text/html:Join us for the grand opening celebration of MY SALON Suite in Westminster.&nbsp\; A ribbon cutting will take place from 5:30-6:00PM.&nbsp\;
LOCATION:MY SALON Suite 7275 West 88th Avenue\, Suite A Westminster\, CO 80021
UID:e.2690.6756
SEQUENCE:3
DTSTAMP:20260421T014745Z
URL:https://www.westminsterchamber.biz/events/details/grand-opening-ribbon-cutting-my-salon-suite-6756
END:VEVENT

END:VCALENDAR
