BEGIN:VCALENDAR
VERSION:2.0
PRODID:-//ChamberMaster//Event Calendar 2.0//EN
METHOD:PUBLISH
X-PUBLISHED-TTL:P3D
REFRESH-INTERVAL:P3D
CALSCALE:GREGORIAN
BEGIN:VEVENT
DTSTART:20180915T190000Z
DTEND:20180916T000000Z
X-MICROSOFT-CDO-ALLDAYEVENT:FALSE
SUMMARY:Great American Beer Fest Pre Party at Total Beverage
DESCRIPTION:The Great American Beer Fest is back and Total Beverage is hosting the best pre party around. Let us help you get ready for the big event with a tasting of last year's winners\, prizes like a VIP 3 night stay at a hotel and tickets to GABF\, plus more fun in store!
X-ALT-DESC;FMTTYPE=text/html:<span style="background-color:transparent\; color:rgb(0\, 0\, 0)\; font-family:arial\; font-size:11pt">The Great American Beer Fest is back and Total Beverage is hosting the best pre party around. Let us help you get ready for the big event with a tasting of last year&rsquo\;s winners\, prizes like a VIP 3 night stay at a hotel and tickets to GABF\, plus more fun in store! </span>
LOCATION:Total Beverage Westminster & Total Beverage Thornton
UID:e.2690.7823
SEQUENCE:3
DTSTAMP:20260420T144554Z
URL:https://www.westminsterchamber.biz/events/details/great-american-beer-fest-pre-party-at-total-beverage-7823
END:VEVENT

END:VCALENDAR
