BEGIN:VCALENDAR
VERSION:2.0
PRODID:-//ChamberMaster//Event Calendar 2.0//EN
METHOD:PUBLISH
X-PUBLISHED-TTL:P3D
REFRESH-INTERVAL:P3D
CALSCALE:GREGORIAN
BEGIN:VEVENT
DTSTART:20171014T013000Z
DTEND:20171029T050000Z
X-MICROSOFT-CDO-ALLDAYEVENT:FALSE
SUMMARY:Haunted A Harrowing Collection of Ghostly Tales Told Through Circus and Dance
DESCRIPTION:Haunted A Harrowing Collection of Ghostly Tales Told Through Circus and Dance Join us around the campfire this Halloween as we tell the tales of ghost sightings from around the world. Watch as these ghost stories come to life on the stage as dancers and aerialists fly through the misty air. Tales of dead seamen\, lost lovers\, ghost inhabited houses\, a haunted theatre and witches hung by the neck. These tales of spirits\, who return to haunt the people and places that they left behind\, have been recorded throughout history as early as 1st century A.D. Do you believe in ghosts? Come see these historical\, ghostly tales and decide what's real and what's make believe. Tickets: Pre-sale Adults: $15/ Youth $10 (17 and under) At the Door Adults: $18/ Youth : $12 (17 and under) Tickets are NOW ON SALE for Iluminar Aerial's newest Halloween production\, Haunted! Ticket Link https://www.artful.ly/store/events/13216
X-ALT-DESC;FMTTYPE=text/html:Haunted A Harrowing Collection of Ghostly Tales Told Through Circus and Dance Join us around the campfire this Halloween as we tell the tales of ghost sightings from around the world. Watch as these ghost stories come to life on the stage as dancers and aerialists fly through the misty air. Tales of dead seamen\, lost lovers\, ghost inhabited houses\, a haunted theatre and witches hung by the neck. These tales of spirits\, who return to haunt the people and places that they left behind\, have been recorded throughout history as early as 1st century A.D. Do you believe in ghosts? Come see these historical\, ghostly tales and decide what&rsquo\;s real and what&rsquo\;s make believe. Tickets: Pre-sale Adults: $15/ Youth $10 (17 and under) At the Door Adults: $18/ Youth : $12 (17 and under) Tickets are NOW ON SALE for Iluminar Aerial&#39\;s newest Halloween production\, Haunted! Ticket Link https://www.artful.ly/store/events/13216
LOCATION:Iluminar Aerial 2655 Industrial Lane Broomfield\, CO 80020
UID:e.2690.5455
SEQUENCE:3
DTSTAMP:20260421T123323Z
URL:https://www.westminsterchamber.biz/events/details/haunted-a-harrowing-collection-of-ghostly-tales-told-through-circus-and-dance-5455
END:VEVENT

END:VCALENDAR
