BEGIN:VCALENDAR
VERSION:2.0
PRODID:-//ChamberMaster//Event Calendar 2.0//EN
METHOD:PUBLISH
X-PUBLISHED-TTL:P3D
REFRESH-INTERVAL:P3D
CALSCALE:GREGORIAN
BEGIN:VEVENT
DTSTART:20170915T003000Z
DTEND:20170915T013000Z
X-MICROSOFT-CDO-ALLDAYEVENT:FALSE
SUMMARY:Health Care and Your Retirement
DESCRIPTION:This event is no cost and no obligation. Dinner will be provided during the presentation. We will be going over Medicare coverage and tradtional medical expenses\, Long-term medical care expenses\, and strategies for addressing uncovered expenses. We want to educate the community about these challenges and how to prepare financially for them. Please RSVP by Spetmeber 13th
X-ALT-DESC;FMTTYPE=text/html:This event is no cost and no obligation. Dinner will be provided during the presentation. We will be going over Medicare coverage and tradtional medical expenses\, Long-term medical care expenses\, and strategies for addressing uncovered expenses. We want to educate the community about these challenges and how to prepare financially for them. Please RSVP by Spetmeber 13th
LOCATION:Jim N' Nicks BBQ 100 E 120th ave Northglenn CO 80233
UID:e.2690.5449
SEQUENCE:3
DTSTAMP:20260421T134724Z
URL:https://www.westminsterchamber.biz/events/details/health-care-and-your-retirement-5449
END:VEVENT

END:VCALENDAR
