BEGIN:VCALENDAR
VERSION:2.0
PRODID:-//ChamberMaster//Event Calendar 2.0//EN
METHOD:PUBLISH
X-PUBLISHED-TTL:P3D
REFRESH-INTERVAL:P3D
CALSCALE:GREGORIAN
BEGIN:VEVENT
DTSTART:20190711T170000Z
DTEND:20190711T180000Z
X-MICROSOFT-CDO-ALLDAYEVENT:FALSE
SUMMARY:Interviewing 101 - VIRTUAL LIVE ONLINE EVENT
DESCRIPTION:Description\n\n\n\n\nAre you tasked with Interviewing potential employees and not getting the results you would like?\n\nJoin this one hour LIVE Virtual Webinar and learn the following:\n\n\n	\n	What you can and cannot ask in an Interview\n	\n	\n	How to set up the Interview\n	\n	\n	Screening the applicants\n	\n	\n	The importance of including Behavioral Interview Questions - Samples included\n	\n	\n	The follow up process when the Interview is completed\n	\n	\n	Q & A time at the end of the webinar\n	\n\n\nIMPORTANT INFORMATION: Please click the link at the bottom of the Thank You email to register for the webinar with ZOOM.\n\n \n\nFAQs\n\nHow can I contact the organizer with any questions?\n\nIf you need to contact the organizer at anytime\, please visit www.annhoganconsulting.com and all contact information is listed on the site.\n\nHow will I receive the information to join the LIVE Virtual Webinar?\n\nWhen you receive your Thank You email a link to register for the ZOOM webinar is at the bottom\, please click that link and register with ZOOM.\n\nIf you don't click the link in the Thank You email\, then a email with the link will be sent to you within 24 hours of registration. This link will have all the information needed to join the webinar. Please watch your inbox and spam folder for this link. Please be sure to test your system prior to joining the LIVE Virtual Webinar on the ZOOM platform.
X-ALT-DESC;FMTTYPE=text/html:<h3>Description</h3>\n\n<div>\n<div>\n<div>\n<p><strong>Are you tasked with Interviewing potential employees and not getting the results you would like?</strong></p>\n\n<p>Join this one hour&nbsp\;<strong>LIVE Virtual Webinar</strong>&nbsp\;and learn the following:</p>\n\n<ul>\n	<li>\n	<p>What you can and cannot ask in an Interview</p>\n	</li>\n	<li>\n	<p>How to set up the Interview</p>\n	</li>\n	<li>\n	<p>Screening the applicants</p>\n	</li>\n	<li>\n	<p>The importance of including Behavioral Interview Questions - Samples included</p>\n	</li>\n	<li>\n	<p>The follow up process when the Interview is completed</p>\n	</li>\n	<li>\n	<p>Q &amp\; A time at the end of the webinar</p>\n	</li>\n</ul>\n\n<p>I<strong>MPORTANT INFORMATION:&nbsp\;</strong>Please click the link at the bottom of the Thank You email to register for the webinar with ZOOM.</p>\n\n<p>&nbsp\;</p>\n\n<p><strong>FAQs</strong></p>\n\n<p><strong>How can I contact the organizer with any questions?</strong></p>\n\n<p>If you need to contact the organizer at anytime\, please visit www.annhoganconsulting.com and all contact information is listed on the site.</p>\n\n<p><strong>How will I receive the information to join the LIVE Virtual Webinar?</strong></p>\n\n<p>When you receive your Thank You email a link to register for the ZOOM webinar is at the bottom\, please click that link and register with ZOOM.</p>\n\n<p>If you don&#39\;t click the link in the Thank You email\, then a email with the link will be sent to you within 24 hours of registration. This link will have all the information needed to join the webinar. Please watch your inbox and spam folder for this link. Please be sure to test your system prior to joining the LIVE Virtual Webinar on the ZOOM platform.</p>\n\n<div>&nbsp\;</div>\n</div>\n</div>\n</div>\n
LOCATION:VIRTUAL ONLINE WEBINAR - You don't have to leave your office!
UID:e.2690.11476
SEQUENCE:3
DTSTAMP:20260420T023853Z
URL:https://www.westminsterchamber.biz/events/details/interviewing-101-virtual-live-online-event-11476
END:VEVENT

END:VCALENDAR
