BEGIN:VCALENDAR
VERSION:2.0
PRODID:-//ChamberMaster//Event Calendar 2.0//EN
METHOD:PUBLISH
X-PUBLISHED-TTL:P3D
REFRESH-INTERVAL:P3D
CALSCALE:GREGORIAN
BEGIN:VEVENT
DTSTART:20180427T140000Z
DTEND:20180427T150000Z
X-MICROSOFT-CDO-ALLDAYEVENT:FALSE
SUMMARY:Intro to Online Marketing: Small Business Week
DESCRIPTION:Join us for a free workshop: Intro to online marketing for your business.  As part of the GYBO Program a trainer will be flying out to educate our entire business community.\n\n\n\nHosted By: \n\nJeffco BRC\, Westminster Chamber of Commerce
X-ALT-DESC;FMTTYPE=text/html:Join us for a free workshop: Intro to online marketing for your business.&nbsp\; As part of the GYBO&nbsp\;Program a trainer will be flying out to educate our entire business community.<br />\n<br />\nHosted By:&nbsp\;<br />\nJeffco BRC\, Westminster Chamber of Commerce
LOCATION:DaVinci Institute 9191 Sheridan Blvd. Suite 300 Westminster\, CO 80031
UID:e.2690.6772
SEQUENCE:3
DTSTAMP:20260421T014747Z
URL:https://www.westminsterchamber.biz/events/details/intro-to-online-marketing-small-business-week-6772
END:VEVENT

END:VCALENDAR
