BEGIN:VCALENDAR
VERSION:2.0
PRODID:-//ChamberMaster//Event Calendar 2.0//EN
METHOD:PUBLISH
X-PUBLISHED-TTL:P3D
REFRESH-INTERVAL:P3D
CALSCALE:GREGORIAN
BEGIN:VEVENT
DTSTART:20170814T143000Z
DTEND:20170814T200000Z
X-MICROSOFT-CDO-ALLDAYEVENT:FALSE
SUMMARY:J. and Nancy Heil Tribute Invitational Shotgun Scramble
DESCRIPTION:Golf for a good cause! All proceeds from the event will be used to provide grants for non-profits working to make Westminster an outstanding community in which to live\, work and play.
X-ALT-DESC;FMTTYPE=text/html:Golf for a good cause! All proceeds from the event will be used to provide grants for non-profits working to make Westminster an outstanding community in which to live\, work and play.
LOCATION:Legacy Ridge Golf Course
UID:e.2690.5419
SEQUENCE:3
DTSTAMP:20260421T152805Z
URL:https://www.westminsterchamber.biz/events/details/j-and-nancy-heil-tribute-invitational-shotgun-scramble-5419
END:VEVENT

END:VCALENDAR
