BEGIN:VCALENDAR
VERSION:2.0
PRODID:-//ChamberMaster//Event Calendar 2.0//EN
METHOD:PUBLISH
X-PUBLISHED-TTL:P3D
REFRESH-INTERVAL:P3D
CALSCALE:GREGORIAN
BEGIN:VEVENT
DTSTART;VALUE=DATE:20190729
DTEND;VALUE=DATE:20190730
TRANSP:TRANSPARENT
X-MICROSOFT-CDO-ALLDAYEVENT:TRUE
SUMMARY:Jeffco School Registration Opens
DESCRIPTION:School Registration Opens July 29!\n\n \n\nJeffco Public Schools registration for the 2019-20 school year opens July 29\, and school starts Aug. 14 for most schools.\n\n \n\nParents/guardians of preschool through 12th grade students should go to JeffcoConnect to complete administrative tasks such as updating contact information. Fees may also be paid on-line. Now is the time to submit free and reduced lunch applications. Make sure and go to your school website to learn about schedules\, back-to-school nights\, school supplies\, orientation information\, and other start-of-school information. School websites are easily accessible via the "select a school" drop down menu on the top left. \n\n \nLooking for a school? There are still openings at many Jeffco preschool locations! If you are new to the area or would like to change to a different school\, EnrollJeffco is open through August 30.
X-ALT-DESC;FMTTYPE=text/html:<p><b><span style="font-size:12.0pt\;font-family:&quot\;Arial&quot\;\,sans-serif\;&#10\;color:#983222">School Registration Opens July 29!</span></b></p>\n\n<p><span style="font-family:&quot\;Arial&quot\;\,sans-serif\;color:#222222">&nbsp\;</span></p>\n\n<p style="text-align:justify"><span style="font-family:&quot\;Arial&quot\;\,sans-serif\;&#10\;color:#222222"><a alt="http://www.jeffcopublicschools.org/" href="http://r20.rs6.net/tn.jsp?f=001Y3XBiBslurVElqhP54yqMQfiDIhXTC5Bz2bDRdqf9RNB-goinq9rcLFRWOe0yjdEgjy0f4CMiJVSZxutvov7dHHVFmx1tpDp5pACZZJJrGgFNQ9ap1quv0vukTn079weRqDSpNGRLw7oUc-62d4wBFtr_B83EuY7Eyg4Yq3h_Pz3hu5rNryzJaN7LIYKP3g7&amp\;c=esh3OUOzG0hUgjSzS3uLDYwUhJVj9Mrl9aN0YlzB_sI1c493Z3SqxA==&amp\;ch=Q5O4UoqYfLn89zTR2HCkTQ9f8nIuVxK63Sslr7L4WIS6YTvMpfJMsA==" linktype="1" shape="rect" target="_blank" track="on"><span style="color:#FF9133">Jeffco Public Schools</span></a> registration for the 2019-20 school year opens July 29\, and school starts Aug. 14 for most schools.</span></p>\n\n<p style="text-align:justify"><span style="font-family:&quot\;Arial&quot\;\,sans-serif\;&#10\;color:#222222">&nbsp\;</span></p>\n\n<p style="text-align:justify"><span style="font-family:&quot\;Arial&quot\;\,sans-serif\;&#10\;color:#222222">Parents/guardians of preschool through 12th grade students should go to&nbsp\;<a alt="https://jeffcoconnect.jeffco.k12.co.us/login" href="http://r20.rs6.net/tn.jsp?f=001Y3XBiBslurVElqhP54yqMQfiDIhXTC5Bz2bDRdqf9RNB-goinq9rcIlhs42teZoOnZJo6JmOtIbSBdCa6zLcekqnzQfRmylNCReUbpWQ1Mjz1-pB6RHnsRdacHj0t6HlJ8JtqQ9ucvJaqb2vaPY5bhwiZ4oMm0oL5xOjxp66VZOdaMv_dgLHYJlaPhv8Au2drob7HAEvmsc=&amp\;c=esh3OUOzG0hUgjSzS3uLDYwUhJVj9Mrl9aN0YlzB_sI1c493Z3SqxA==&amp\;ch=Q5O4UoqYfLn89zTR2HCkTQ9f8nIuVxK63Sslr7L4WIS6YTvMpfJMsA==" linktype="1" shape="rect" target="_blank" track="on"><span style="color:#FF9133">JeffcoConnect</span></a> to complete administrative tasks such as updating contact information. Fees may also be paid on-line. Now is the time to submit&nbsp\;<a alt="http://www.jeffcoschoolfood.org/free-reduced" href="http://r20.rs6.net/tn.jsp?f=001Y3XBiBslurVElqhP54yqMQfiDIhXTC5Bz2bDRdqf9RNB-goinq9rcIlhs42teZoO1MmuFbWDG-GqiDSHzyNvh73ju8NUaD3x7uOE1QCrnn1PBfZC3yrGbFRDp92IPqNnwfzfOIDwsIsB_BKJKrfDHLVw9FXFaWXt4NbY6LiN5tEGkmwu5i_6ba5f-wOia37OjqNLogdxE-w=&amp\;c=esh3OUOzG0hUgjSzS3uLDYwUhJVj9Mrl9aN0YlzB_sI1c493Z3SqxA==&amp\;ch=Q5O4UoqYfLn89zTR2HCkTQ9f8nIuVxK63Sslr7L4WIS6YTvMpfJMsA==" linktype="1" shape="rect" target="_blank" track="on"><span style="color:#FF9133">free and reduced lunch applications</span></a>. Make sure and go to your school website to learn about schedules\, back-to-school nights\, school supplies\, orientation information\, and other start-of-school information. <a alt="http://www.jeffcopublicschools.org/" href="http://r20.rs6.net/tn.jsp?f=001Y3XBiBslurVElqhP54yqMQfiDIhXTC5Bz2bDRdqf9RNB-goinq9rcLFRWOe0yjdEgjy0f4CMiJVSZxutvov7dHHVFmx1tpDp5pACZZJJrGgFNQ9ap1quv0vukTn079weRqDSpNGRLw7oUc-62d4wBFtr_B83EuY7Eyg4Yq3h_Pz3hu5rNryzJaN7LIYKP3g7&amp\;c=esh3OUOzG0hUgjSzS3uLDYwUhJVj9Mrl9aN0YlzB_sI1c493Z3SqxA==&amp\;ch=Q5O4UoqYfLn89zTR2HCkTQ9f8nIuVxK63Sslr7L4WIS6YTvMpfJMsA==" linktype="1" shape="rect" target="_blank" track="on"><span style="color:#FF9133">School websites</span></a>&nbsp\;are easily accessible via the &quot\;select a school&quot\; drop down menu on the top left.&nbsp\;</span></p>\n\n<p><span style="font-family:&quot\;Arial&quot\;\,sans-serif\;color:#222222">&nbsp\;</span></p>\n<span style="font-size:11.0pt\;font-family:&quot\;Arial&quot\;\,sans-serif\;mso-fareast-font-family:&#10\;&quot\;Times New Roman&quot\;\;color:#222222\;mso-ansi-language:EN-US\;mso-fareast-language:&#10\;EN-US\;mso-bidi-language:AR-SA">Looking for a school? There are still openings at many&nbsp\;<a alt="https://www.jeffcopublicschools.org/programs/preschool" href="http://r20.rs6.net/tn.jsp?f=001Y3XBiBslurVElqhP54yqMQfiDIhXTC5Bz2bDRdqf9RNB-goinq9rcIlhs42teZoOgfNIFbY31AdgWW1Wy1cCmmJzUCDMCh1JzO5BY-SV7lMqmVrxQDgvp6L7_NlbNZOoqpQ6KAmyfEDhXSVgYUyeaBH1_dYc929fQtzRqrrKDMDVkJ7CXNuLkWpEIQEn13gA_YUIbgvum8BjtGAd4OHJIA==&amp\;c=esh3OUOzG0hUgjSzS3uLDYwUhJVj9Mrl9aN0YlzB_sI1c493Z3SqxA==&amp\;ch=Q5O4UoqYfLn89zTR2HCkTQ9f8nIuVxK63Sslr7L4WIS6YTvMpfJMsA==" linktype="1" shape="rect" target="_blank" track="on"><span style="color:#FF9133">Jeffco preschool locations</span></a>! If you are new to the area or would like to change to a different school\, <a alt="https://www.jeffcopublicschools.org/schools/enrollment/enrolljeffco" href="http://r20.rs6.net/tn.jsp?f=001Y3XBiBslurVElqhP54yqMQfiDIhXTC5Bz2bDRdqf9RNB-goinq9rcIlhs42teZoOvdIwwn2q0eOuDoLYGwzKGOIKlLx45mmr_QmQ0sx-f7bptZvE3WEo03kU4VivwiJLvHyvKeU72_7zBEcSlYocdOLJdos9KYmrdv2Y7RJxpx2oL_Y5PsdYNc7BYXr_j4FLXYO7XFP7ZCTN-XGgVJ6jVKt4x5cufWubjWhhHZvJRZM=&amp\;c=esh3OUOzG0hUgjSzS3uLDYwUhJVj9Mrl9aN0YlzB_sI1c493Z3SqxA==&amp\;ch=Q5O4UoqYfLn89zTR2HCkTQ9f8nIuVxK63Sslr7L4WIS6YTvMpfJMsA==" linktype="1" shape="rect" target="_blank" track="on"><span style="color:#FF9133">EnrollJeffco</span></a> is open through August 30. </span>
LOCATION:
UID:e.2690.11610
SEQUENCE:3
DTSTAMP:20260420T023835Z
URL:https://www.westminsterchamber.biz/events/details/jeffco-school-registration-opens-11610
END:VEVENT

END:VCALENDAR
