BEGIN:VCALENDAR
VERSION:2.0
PRODID:-//ChamberMaster//Event Calendar 2.0//EN
METHOD:PUBLISH
X-PUBLISHED-TTL:P3D
REFRESH-INTERVAL:P3D
CALSCALE:GREGORIAN
BEGIN:VEVENT
DTSTART:20200813T174500Z
DTEND:20200813T190000Z
X-MICROSOFT-CDO-ALLDAYEVENT:FALSE
SUMMARY:Leads Group: Rainmakers
DESCRIPTION:Are you interested in building your professional network? Consider attending a Leads Group meeting.  These industry exclusive round tables ensure that you have a strong web of strategic partners to help refer and grow your business.  Included as part of all membership tiers\, industry is first come first serve.
X-ALT-DESC;FMTTYPE=text/html:Are you interested in building your professional network? Consider attending a Leads Group meeting. &nbsp\;These industry exclusive round tables ensure that you have a strong web of strategic partners to help refer and grow your business. &nbsp\;Included as part of all membership tiers\, industry is first come first serve.
LOCATION:Outback Steakhouse 9329 Sheridan Boulevard Westminster\, CO 80031
UID:e.2690.3823
SEQUENCE:3
DTSTAMP:20260419T155539Z
URL:https://www.westminsterchamber.biz/events/details/leads-group-08-13-2020-3823
END:VEVENT

END:VCALENDAR
