BEGIN:VCALENDAR
VERSION:2.0
PRODID:-//ChamberMaster//Event Calendar 2.0//EN
METHOD:PUBLISH
X-PUBLISHED-TTL:P3D
REFRESH-INTERVAL:P3D
CALSCALE:GREGORIAN
BEGIN:VEVENT
DTSTART:20180104T190000Z
DTEND:20180104T203000Z
X-MICROSOFT-CDO-ALLDAYEVENT:FALSE
SUMMARY:Leads Group: The Originals
DESCRIPTION:Leads groups are a great way to build strategic partnerships and grow your business.  This group meets on the 1st and 3rd Thursday of every month. Industry exclusive\, Leads Groups\, are designed to help create a network of referrals to grow your business.
X-ALT-DESC;FMTTYPE=text/html:<span style="font-size:12px\;"><span style="font-family:arial\;"><span style="line-height: 20.8px\;">Leads groups are a great way to build strategic partnerships and grow your business. &nbsp\;This group meets on the 1st and 3rd Thursday of every month. Industry exclusive\, Leads Groups\, are designed to help create a network of referrals to grow your business.</span></span></span>
LOCATION:The Old Spaghetti Factory 9145 Sheridan Blvd. Westminster\, CO 80031
UID:e.2690.225
SEQUENCE:3
DTSTAMP:20260421T051547Z
URL:https://www.westminsterchamber.biz/events/details/leads-group-the-originals-01-04-2018-225
END:VEVENT

END:VCALENDAR
