BEGIN:VCALENDAR
VERSION:2.0
PRODID:-//ChamberMaster//Event Calendar 2.0//EN
METHOD:PUBLISH
X-PUBLISHED-TTL:P3D
REFRESH-INTERVAL:P3D
CALSCALE:GREGORIAN
BEGIN:VEVENT
DTSTART:20190307T190000Z
DTEND:20190307T203000Z
X-MICROSOFT-CDO-ALLDAYEVENT:FALSE
SUMMARY:Leads Group: The Originals
DESCRIPTION:Leads groups are a great way to build strategic partnerships and grow your business.  This group meets on the 1st and 3rd Thursday of every month.
X-ALT-DESC;FMTTYPE=text/html:<span style="line-height: 20.8px\;">Leads groups are a great way to build strategic partnerships and grow your business. &nbsp\;This group meets on the 1st and 3rd Thursday of every month.</span>
LOCATION:Black Bear Diner 10392 Reed Street Westminster\, CO 80031
UID:e.2690.239
SEQUENCE:3
DTSTAMP:20260420T061933Z
URL:https://www.westminsterchamber.biz/events/details/leads-group-the-originals-03-07-2019-239
END:VEVENT

END:VCALENDAR
