BEGIN:VCALENDAR
VERSION:2.0
PRODID:-//ChamberMaster//Event Calendar 2.0//EN
METHOD:PUBLISH
X-PUBLISHED-TTL:P3D
REFRESH-INTERVAL:P3D
CALSCALE:GREGORIAN
BEGIN:VEVENT
DTSTART:20171102T180000Z
DTEND:20171102T193000Z
X-MICROSOFT-CDO-ALLDAYEVENT:FALSE
SUMMARY:Leads Group: The Originals
DESCRIPTION:Leads groups are a great way to build strategic partnerships and grow your business.  This group meets on the 1st and 3rd Thursday of every month.
X-ALT-DESC;FMTTYPE=text/html:<span style="line-height: 20.8px\;">Leads groups are a great way to build strategic partnerships and grow your business. &nbsp\;This group meets on the 1st and 3rd Thursday of every month.</span>
LOCATION:Kokopelli Beer Company 8931 N. Harlan St. Westminster\, CO 80031
UID:e.2690.223
SEQUENCE:3
DTSTAMP:20260421T101532Z
URL:https://www.westminsterchamber.biz/events/details/leads-group-the-originals-11-02-2017-223
END:VEVENT

END:VCALENDAR
