BEGIN:VCALENDAR
VERSION:2.0
PRODID:-//ChamberMaster//Event Calendar 2.0//EN
METHOD:PUBLISH
X-PUBLISHED-TTL:P3D
REFRESH-INTERVAL:P3D
CALSCALE:GREGORIAN
BEGIN:VEVENT
DTSTART:20190915T000000Z
DTEND:20190915T040000Z
X-MICROSOFT-CDO-ALLDAYEVENT:FALSE
SUMMARY:Life To The Fullest - Wine\, Beer & Spirit Tasting
DESCRIPTION:Life to the Fullest Wine Beer & Spirits Tasting at the Westin\, Westminster\n\nSaturday\, September 14th\, 2019\n\n6 pm -  10 pm\n\nCome Enjoy Wine\, Beer & Spirits Tasting From Some  of the Best Micro Breweries\, Wineries  and Distilleries Around\, Great Food\,  Fabulous Live Music & an Awesome Silent Auction While Raising Money  for Children with Duchenne Muscular Dystrophy!\n\nIndividual Event Tickets $65*\n\nEntry into the event\, hors d'oeuvres\,  beer and wine tastings\, and registration as a participant in the Silent Auction. All attendees must be 21 years of age or older.\n\nYou can also purchase a VIP Package that includes a Gift Basket from Total Beverage and Overnight stay at the Westin! Click for more details ...\n\nClick here for Sponsorship opportunities ...\n\n* Tickets are non-refundable and may be a tax deduction\, please consult your tax professional for more information about 501(c)3 non-profit organizations and donation deductions.
X-ALT-DESC;FMTTYPE=text/html:<p style="color: rgb(68\, 68\, 68)\; font-family: &amp\;quot\;Open Sans&amp\;quot\;\; font-size: 14px\; font-style: normal\; font-variant: normal\; font-weight: 400\; letter-spacing: normal\; margin-bottom: 20px\; margin-left: 0px\; margin-right: 0px\; margin-top: 20px\; orphans: 2\; text-align: left\; text-decoration: none\; text-indent: 0px\; text-transform: none\; -webkit-text-stroke-width: 0px\; white-space: normal\; word-spacing: 0px\;">Life to the Fullest Wine Beer &amp\; Spirits Tasting at the Westin\, Westminster</p>\n\n<h3 style="color: rgb(68\, 68\, 68)\; font-family: &amp\;quot\;Open Sans&amp\;quot\;\; font-size: 18px\; font-style: normal\; font-variant: normal\; font-weight: bold\; letter-spacing: normal\; line-height: 22px\; margin-bottom: 5px\; margin-left: 0px\; margin-right: 0px\; margin-top: 5px\; orphans: 2\; padding-bottom: 0px\; padding-left: 0px\; padding-right: 0px\; padding-top: 0px\; text-align: left\; text-decoration: none\; text-indent: 0px\; text-transform: none\; -webkit-text-stroke-width: 0px\; white-space: normal\; width: auto\; word-spacing: 0px\;">Saturday\, September 14th\, 2019<br />\n6 pm -&nbsp\; 10 pm</h3>\n\n<p style="color: rgb(68\, 68\, 68)\; font-family: &amp\;quot\;Open Sans&amp\;quot\;\; font-size: 14px\; font-style: normal\; font-variant: normal\; font-weight: 400\; letter-spacing: normal\; margin-bottom: 20px\; margin-left: 0px\; margin-right: 0px\; margin-top: 20px\; orphans: 2\; text-align: left\; text-decoration: none\; text-indent: 0px\; text-transform: none\; -webkit-text-stroke-width: 0px\; white-space: normal\; word-spacing: 0px\;">Come Enjoy Wine\, Beer &amp\; Spirits Tasting From Some&nbsp\; of the Best Micro Breweries\, Wineries&nbsp\; and Distilleries Around\, Great Food\,&nbsp\; Fabulous Live Music &amp\; an Awesome Silent Auction While Raising Money&nbsp\; for Children with Duchenne Muscular Dystrophy!</p>\n\n<h3 style="color: rgb(68\, 68\, 68)\; font-family: &amp\;quot\;Open Sans&amp\;quot\;\; font-size: 18px\; font-style: normal\; font-variant: normal\; font-weight: bold\; letter-spacing: normal\; line-height: 22px\; margin-bottom: 5px\; margin-left: 0px\; margin-right: 0px\; margin-top: 5px\; orphans: 2\; padding-bottom: 0px\; padding-left: 0px\; padding-right: 0px\; padding-top: 0px\; text-align: left\; text-decoration: none\; text-indent: 0px\; text-transform: none\; -webkit-text-stroke-width: 0px\; white-space: normal\; width: auto\; word-spacing: 0px\;">Individual Event Tickets $65*</h3>\n\n<p style="color: rgb(68\, 68\, 68)\; font-family: &amp\;quot\;Open Sans&amp\;quot\;\; font-size: 14px\; font-style: normal\; font-variant: normal\; font-weight: 400\; letter-spacing: normal\; margin-bottom: 20px\; margin-left: 0px\; margin-right: 0px\; margin-top: 20px\; orphans: 2\; text-align: left\; text-decoration: none\; text-indent: 0px\; text-transform: none\; -webkit-text-stroke-width: 0px\; white-space: normal\; word-spacing: 0px\;">Entry into the event\, hors d&#39\;oeuvres\,&nbsp\; beer and wine tastings\, and registration as a participant in the Silent Auction. All attendees must be 21 years of age or older.</p>\n\n<p style="color: rgb(68\, 68\, 68)\; font-family: &amp\;quot\;Open Sans&amp\;quot\;\; font-size: 14px\; font-style: normal\; font-variant: normal\; font-weight: 400\; letter-spacing: normal\; margin-bottom: 20px\; margin-left: 0px\; margin-right: 0px\; margin-top: 20px\; orphans: 2\; text-align: left\; text-decoration: none\; text-indent: 0px\; text-transform: none\; -webkit-text-stroke-width: 0px\; white-space: normal\; word-spacing: 0px\;">You can also purchase a VIP Package that includes a Gift Basket from Total Beverage and Overnight stay at the Westin! <a href="https://www.romitofoundation.org/vip" style="background-attachment: scroll\; background-clip: border-box\; background-color: transparent\; background-image: none\; background-origin: padding-box\; background-position-x: 0%\; background-position-y: 0%\; background-repeat: repeat\; background-size: auto\; color: rgb(157\, 14\, 12)\; cursor: pointer\; text-decoration: none\;">Click for more details ...</a></p>\n\n<p style="color: rgb(68\, 68\, 68)\; font-family: &amp\;quot\;Open Sans&amp\;quot\;\; font-size: 14px\; font-style: normal\; font-variant: normal\; font-weight: 400\; letter-spacing: normal\; margin-bottom: 20px\; margin-left: 0px\; margin-right: 0px\; margin-top: 20px\; orphans: 2\; text-align: left\; text-decoration: none\; text-indent: 0px\; text-transform: none\; -webkit-text-stroke-width: 0px\; white-space: normal\; word-spacing: 0px\;"><a href="https://www.romitofoundation.org/sponsorship" style="background-attachment: scroll\; background-clip: border-box\; background-color: transparent\; background-image: none\; background-origin: padding-box\; background-position-x: 0%\; background-position-y: 0%\; background-repeat: repeat\; background-size: auto\; color: rgb(157\, 14\, 12)\; cursor: pointer\; text-decoration: none\;">Click here for Sponsorship opportunities ...</a></p>\n\n<p style="color: rgb(68\, 68\, 68)\; font-family: &amp\;quot\;Open Sans&amp\;quot\;\; font-size: 14px\; font-style: normal\; font-variant: normal\; font-weight: 400\; letter-spacing: normal\; margin-bottom: 20px\; margin-left: 0px\; margin-right: 0px\; margin-top: 20px\; orphans: 2\; text-align: left\; text-decoration: none\; text-indent: 0px\; text-transform: none\; -webkit-text-stroke-width: 0px\; white-space: normal\; word-spacing: 0px\;">* Tickets are non-refundable and may be a tax deduction\, please consult your tax professional for more information about 501(c)3 non-profit organizations and donation deductions.</p>\n
LOCATION:Westin Westminster 10600 Westminster Blvd. Westminster\, CO 80020
UID:e.2690.11457
SEQUENCE:3
DTSTAMP:20260421T093342Z
URL:https://www.westminsterchamber.biz/events/details/life-to-the-fullest-wine-beer-spirit-tasting-11457
END:VEVENT

END:VCALENDAR
