BEGIN:VCALENDAR
VERSION:2.0
PRODID:-//ChamberMaster//Event Calendar 2.0//EN
METHOD:PUBLISH
X-PUBLISHED-TTL:P3D
REFRESH-INTERVAL:P3D
CALSCALE:GREGORIAN
BEGIN:VEVENT
DTSTART:20201026T170000Z
DTEND:20201026T173000Z
X-MICROSOFT-CDO-ALLDAYEVENT:FALSE
SUMMARY:Live Broadcast
DESCRIPTION:Our live broadcasts are held virtually. Every week we feature experts\, electeds\, non profits and businesses. From our Mayoral Updates to our Non Profit Corner. Hear what is going on in the community around you\, how you can help and be a part of the future.
X-ALT-DESC;FMTTYPE=text/html:Our live broadcasts are held virtually. Every week we feature experts\, electeds\, non profits and businesses. From our Mayoral Updates to our Non Profit Corner. Hear what is going on in the community around you\, how you can help and be a part of the future.
LOCATION:From the comfort of your home! Virtual - Facebook & Youtube facebook.com/westminstercc youtube.com : Westminster Chamber of Commerce
UID:e.2690.12308
SEQUENCE:3
DTSTAMP:20260421T051212Z
URL:https://www.westminsterchamber.biz/events/details/live-broadcast-10-26-2020-12308
END:VEVENT

END:VCALENDAR
