BEGIN:VCALENDAR
VERSION:2.0
PRODID:-//ChamberMaster//Event Calendar 2.0//EN
METHOD:PUBLISH
X-PUBLISHED-TTL:P3D
REFRESH-INTERVAL:P3D
CALSCALE:GREGORIAN
BEGIN:VEVENT
DTSTART:20200818T050000Z
DTEND:20200818T053000Z
X-MICROSOFT-CDO-ALLDAYEVENT:FALSE
SUMMARY:Live Broadcast: PR&L Director
DESCRIPTION:Our live broadcasts are held virtually. Every week we feature experts\, electeds\, non profits and businesses. From our Mayoral Updates to our Non Profit Corner. Hear what is going on in the community around you\, how you can help and be a part of the future. Let's kick off the week with Parks\, Recreation & Libraries Director Jason Genck.
X-ALT-DESC;FMTTYPE=text/html:Our live broadcasts are held virtually. Every week we feature experts\, electeds\, non profits and businesses. From our Mayoral Updates to our Non Profit Corner. Hear what is going on in the community around you\, how you can help and be a part of the future. Let&rsquo\;s kick off the week with Parks\, Recreation &amp\; Libraries Director Jason Genck.&nbsp\;
LOCATION:From the comfort of your home! Virtual - Facebook & Youtube facebook.com/westminstercc youtube.com : Westminster Chamber of Commerce
UID:e.2690.12238
SEQUENCE:3
DTSTAMP:20260421T003023Z
URL:https://www.westminsterchamber.biz/events/details/live-broadcast-pr-l-director-12238
END:VEVENT

END:VCALENDAR
