BEGIN:VCALENDAR
VERSION:2.0
PRODID:-//ChamberMaster//Event Calendar 2.0//EN
METHOD:PUBLISH
X-PUBLISHED-TTL:P3D
REFRESH-INTERVAL:P3D
CALSCALE:GREGORIAN
BEGIN:VEVENT
DTSTART:20181218T000000Z
DTEND:20181218T020000Z
X-MICROSOFT-CDO-ALLDAYEVENT:FALSE
SUMMARY:Live Drawing : We Love Westy Sweepstakes
DESCRIPTION:Thank you for taking part in our We Love Westy Sweepstakes. By supporting local you are ensuring the vibrancy and continued growth of our community.  Now that you have collected tickets you have a chance at $5\,000 in cash prizes.  We will award three lucky winners (Prize 1 - $3\,000\, Prize 2 - $1\,500\, Prize 3 - $500)!  \n\n\n\nThe live drawing event will feature a  Holiday - Christmas show performance by The Silhouettes - 1st runner up on America's Got Talent Season 6. If you are among the first 50 attendees you will receive a free keepsake\, and everyone who attends has a chance at door prizes.  Get there early to claim your free keepsake. Light snacks and non-alcoholic beverages will be served. \n\n\n\nKeep in mind:\n\n\n\n1. Need not be present to win: \n\n   * Tune in to our Chamber Facebook Page for the numbers or attend the live drawing in person at The Silhouettes - 10138 Wadsworth Pkwy\, Suite 1200.\n\n\n\n2. If you have the lucky number:\n\n   * Notify the Chamber within 24 hours of first announcement (no later than 12/18 at 5PM)\n\n   * Cash must be claimed within 48 hours of first announcement (no later than 12/19 at 5PM)\n\n\n\n3. Ways to notifiy Chamber:\n\n   * By phone at 303.961.5975 or by email at info@westminsterchamber.biz or if you are at the event come up and claim the prize money. \n\n\n\n3.  If neither the number nor cash is claimed:\n\n   * Chamber will redraw up to 2 more times.  (For example\, another number drawn for whichever of the prizes is still available on 12/19 at 5PM\, claim by 12/20 at 5PM\, deadline to pickup 12/21 at 5PM)\n\n\n\nOfficial Rules\n\n\n\nPlease note we will not re-release numbers. Once the period has passed to claim the numbers (24 hours) the numbers will be removed from our communications.
X-ALT-DESC;FMTTYPE=text/html:Thank you for taking part in our <em>We Love Westy </em>Sweepstakes. By supporting local you are ensuring the vibrancy and continued growth of our community.&nbsp\; Now that you have collected tickets you have a chance at $5\,000 in cash prizes.&nbsp\; We will award three lucky winners (Prize 1 - $3\,000\, Prize 2 - $1\,500\, Prize 3 - $500)! &nbsp\;<br />\n<br />\nThe live drawing event will feature a&nbsp\; Holiday - Christmas show performance by The Silhouettes - 1st runner up on America&#39\;s Got Talent Season 6. If you are among the first 50 attendees you will receive a free keepsake\, and everyone who attends has a chance at door prizes.&nbsp\; Get there early to claim your free keepsake. Light snacks and non-alcoholic beverages will be served.&nbsp\;<br />\n<br />\nKeep in mind:<br />\n<br />\n1. <strong>Need not be present to win:&nbsp\;</strong><br />\n&nbsp\;&nbsp\; * Tune in to our <a href="https://www.facebook.com/WestminsterCC/">Chamber Facebook</a> Page for the numbers&nbsp\;<strong>or&nbsp\;</strong>attend the live drawing in person at The Silhouettes - 10138 Wadsworth Pkwy\, Suite 1200.<br />\n<br />\n2. <strong>If you have the lucky number:</strong><br />\n&nbsp\;&nbsp\; * Notify the Chamber within 24 hours of first announcement (no later than 12/18 at 5PM)<br />\n&nbsp\;&nbsp\; * Cash must be claimed within 48 hours of first announcement (no later than 12/19 at 5PM)<br />\n<br />\n3. <strong>Ways to notifiy Chamber:</strong><br />\n&nbsp\;&nbsp\; * By phone at 303.961.5975 <strong>or</strong> by email at info@westminsterchamber.biz <strong>or</strong> if you are at the event come up and claim the prize money.&nbsp\;<br />\n<br />\n3. &nbsp\;<strong>If neither the number nor cash is claimed:<br />\n&nbsp\;&nbsp\; *&nbsp\;</strong>Chamber will redraw up to 2 more times.&nbsp\; (For example\, another number drawn for whichever of the prizes is still available on 12/19 at 5PM\, claim by 12/20 at 5PM\, deadline to pickup 12/21 at 5PM)<br />\n<br />\n<span style="font-size:12px\;"><a href="https://chambermaster.blob.core.windows.net/userfiles/UserFiles/chambers/2690/File/OfficialRules-ML.docx"><span style="font-family:times new roman\;">Official Rules</span></a></span><br />\n<br />\n<strong>Please note we will not re-release numbers. Once the period has passed to claim the numbers (24 hours) the numbers will be removed from our communications. &nbsp\;</strong><br />\n&nbsp\;
LOCATION:The Silhouettes - 1st runner up on America's Got Talent Season 6 10138 Wadsworth Pkwy Suite 1200 Westminster\, CO 80021
UID:e.2690.10218
SEQUENCE:3
DTSTAMP:20260420T094053Z
URL:https://www.westminsterchamber.biz/events/details/live-drawing-we-love-westy-sweepstakes-10218
END:VEVENT

END:VCALENDAR
