BEGIN:VCALENDAR
VERSION:2.0
PRODID:-//ChamberMaster//Event Calendar 2.0//EN
METHOD:PUBLISH
X-PUBLISHED-TTL:P3D
REFRESH-INTERVAL:P3D
CALSCALE:GREGORIAN
BEGIN:VEVENT
DTSTART;VALUE=DATE:20180929
DTEND;VALUE=DATE:20180930
TRANSP:TRANSPARENT
X-MICROSOFT-CDO-ALLDAYEVENT:TRUE
SUMMARY:Local Children's book author is at Zoe's for a book reading and signing
DESCRIPTION:Local Children Books Authors at Zoe's Coffee for a reading and book signing on September 29 at 10:00 a.m. to 12:00 p.m.
X-ALT-DESC;FMTTYPE=text/html:Local Children Books Authors at Zoe&#39\;s Coffee for a reading and book signing on September 29 at 10:00 a.m. to 12:00 p.m.
LOCATION:
UID:e.2690.10186
SEQUENCE:3
DTSTAMP:20260420T144619Z
URL:https://www.westminsterchamber.biz/events/details/local-children-s-book-author-is-at-zoe-s-for-a-book-reading-and-signing-10186
END:VEVENT

END:VCALENDAR
