BEGIN:VCALENDAR
VERSION:2.0
PRODID:-//ChamberMaster//Event Calendar 2.0//EN
METHOD:PUBLISH
X-PUBLISHED-TTL:P3D
REFRESH-INTERVAL:P3D
CALSCALE:GREGORIAN
BEGIN:VEVENT
DTSTART:20180922T170000Z
DTEND:20180922T200000Z
X-MICROSOFT-CDO-ALLDAYEVENT:FALSE
SUMMARY:Malloween at The Orchard Town Center
DESCRIPTION:The Orchard's Annual Halloween Celebration! Join us at Town Center Square at 11am to trade your non-perishable food donation for an Orchard Trick or Treat bag with fun surprises inside (while supplies last). Hang out and play some games\, win some prizes and dance to family-friendly Halloween music! Then start your trick or treat journey through The Orchard. Participating stores with candy will have a balloon bouquet at their front door. Free face painting\, balloons\, Halloween games and prizes\, characters\, photo opps and so much more! Please note that children over the age of 12 and adults are not permitted to wear face masks at The Orchard. FREE Event All food donations benefit Food Bank of The Rockies
X-ALT-DESC;FMTTYPE=text/html:The Orchard&#39\;s Annual Halloween Celebration! Join us at Town Center Square at 11am to trade your non-perishable food donation for an Orchard Trick or Treat bag with fun surprises inside (while supplies last). Hang out and play some games\, win some prizes and dance to family-friendly Halloween music! Then start your trick or treat journey through The Orchard. Participating stores with candy will have a balloon bouquet at their front door. Free face painting\, balloons\, Halloween games and prizes\, characters\, photo opps and so much more! Please note that children over the age of 12 and adults are not permitted to wear face masks at The Orchard. FREE Event All food donations benefit Food Bank of The Rockies
LOCATION:The Orchard Town Center 14697 Delaware Street\, Westminster\, CO 80023 Event on Town Center Square
UID:e.2690.10172
SEQUENCE:3
DTSTAMP:20260420T163754Z
URL:https://www.westminsterchamber.biz/events/details/malloween-at-the-orchard-town-center-10172
END:VEVENT

END:VCALENDAR
