BEGIN:VCALENDAR
VERSION:2.0
PRODID:-//ChamberMaster//Event Calendar 2.0//EN
METHOD:PUBLISH
X-PUBLISHED-TTL:P3D
REFRESH-INTERVAL:P3D
CALSCALE:GREGORIAN
BEGIN:VEVENT
DTSTART:20170915T003000Z
DTEND:20170915T020000Z
X-MICROSOFT-CDO-ALLDAYEVENT:FALSE
SUMMARY:Medicare's Mysteries: Understanding Medicare and Medicare Supplements
DESCRIPTION:Join Professor Medicare to make sense out of Medicare's alphabet soup. Medicare is confusing. With all the parts and plans\, it's difficult to sort it out. The Professor simplifies Medicare for you. After this free event you will have a much clearer understanding of Medicare and Medicare Supplements.
X-ALT-DESC;FMTTYPE=text/html:Join Professor Medicare to make sense out of Medicare&#39\;s alphabet soup. Medicare is confusing. With all the parts and plans\, it&#39\;s difficult to sort it out. The Professor simplifies Medicare for you. After this free event you will have a much clearer understanding of Medicare and Medicare Supplements.&nbsp\;
LOCATION:Broomfield Community Center 280 Spader Way Broomfield\, CO 80020
UID:e.2690.5451
SEQUENCE:3
DTSTAMP:20260421T134946Z
URL:https://www.westminsterchamber.biz/events/details/medicare-s-mysteries-understanding-medicare-and-medicare-supplements-5451
END:VEVENT

END:VCALENDAR
