BEGIN:VCALENDAR
VERSION:2.0
PRODID:-//ChamberMaster//Event Calendar 2.0//EN
METHOD:PUBLISH
X-PUBLISHED-TTL:P3D
REFRESH-INTERVAL:P3D
CALSCALE:GREGORIAN
BEGIN:VEVENT
DTSTART:20190427T170000Z
DTEND:20190427T180000Z
X-MICROSOFT-CDO-ALLDAYEVENT:FALSE
SUMMARY:Meet and Greet with Westminster City Council Candidates Lindsey Smith and Rich Seymour
DESCRIPTION:You're invited to network and mingle with Westminster City Council cadidates Lindsey Smith and Rich Seymour. Get to know them and why they are running.
X-ALT-DESC;FMTTYPE=text/html:You&#39\;re invited to network and mingle with Westminster City Council cadidates Lindsey Smith and Rich Seymour. Get to know them and why they are running.&nbsp\;
LOCATION:3595 Northpark Drive Westminster\, CO 80031
UID:e.2690.10905
SEQUENCE:3
DTSTAMP:20260420T043953Z
URL:https://www.westminsterchamber.biz/events/details/meet-and-greet-with-westminster-city-council-candidates-lindsey-smith-and-rich-seymour-10905
END:VEVENT

END:VCALENDAR
