BEGIN:VCALENDAR
VERSION:2.0
PRODID:-//ChamberMaster//Event Calendar 2.0//EN
METHOD:PUBLISH
X-PUBLISHED-TTL:P3D
REFRESH-INTERVAL:P3D
CALSCALE:GREGORIAN
BEGIN:VEVENT
DTSTART:20160701T180000Z
DTEND:20160701T193000Z
X-MICROSOFT-CDO-ALLDAYEVENT:FALSE
SUMMARY:Meet\, Greet & Eat with Taste of Peru Cooking School
DESCRIPTION:Keep it simple\, build your network - meet fellow chamber members and not-yet-members\, greet professionals of diverse industries\, and eat fresh\, delicious Peruvian cooking!  Join chefs Maya and Ed and the rest of the Taste of Peru cooking school.\n\n\n\nVenue is equipped with an overhead projector and interactive display for presentations and professional development.\n\n\n\nRSVP today\, because this is a brand new group and members are already signing up!  Make sure your industry is represented in this new opportunity by clicking "Register Now"  (or contact Maya for more information!)
X-ALT-DESC;FMTTYPE=text/html:Keep it simple\, build your network&nbsp\;- meet fellow chamber members and not-yet-members\, greet professionals of diverse industries\, and eat fresh\, delicious Peruvian cooking!&nbsp\; Join chefs Maya and Ed and the rest of the Taste of Peru cooking school.<br />\n<br />\nVenue is equipped with an overhead projector and interactive display for presentations and professional development.<br />\n<br />\nRSVP today\, because this is a brand new group and members are already signing up!&nbsp\; Make sure your industry is represented in this new opportunity by clicking &quot\;Register Now&quot\;&nbsp\; (or contact Maya for more information!)
LOCATION:Taste of Peru Cooking School 8031 Marshall Circle Arvada\, Colorado 80003
UID:e.2690.2708
SEQUENCE:3
DTSTAMP:20260422T114242Z
URL:https://www.westminsterchamber.biz/events/details/meet-greet-eat-with-taste-of-peru-cooking-school-07-01-2016-2708
END:VEVENT

END:VCALENDAR
