BEGIN:VCALENDAR
VERSION:2.0
PRODID:-//ChamberMaster//Event Calendar 2.0//EN
METHOD:PUBLISH
X-PUBLISHED-TTL:P3D
REFRESH-INTERVAL:P3D
CALSCALE:GREGORIAN
BEGIN:VEVENT
DTSTART:20160607T140000Z
DTEND:20160607T200000Z
X-MICROSOFT-CDO-ALLDAYEVENT:FALSE
SUMMARY:Member Event: 2016 SLHS Golfing for Gators Scramble
DESCRIPTION:The Boys & Girls Golf Team will hosting their 3rd Annual Golfing for Gators Scramble Tournament and Fund Raiser. This event includes a $10\,000 Hole In One Contest along with a $50\,000 Shoot Out at the end of the Tournament. Email PJ Rosendahl atslhsgolfbooster@msn.com for more information.
X-ALT-DESC;FMTTYPE=text/html:<span style="color: rgb(35\, 49\, 46)\; font-family: 'Open Sans'\, Helvetica\, Arial\, sans-serif\; font-size: 16px\; line-height: 24px\;">The Boys &amp\; Girls Golf Team will hosting their 3rd Annual Golfing for Gators Scramble Tournament and Fund Raiser. This event includes a $10\,000 Hole In One Contest along with a $50\,000 Shoot Out at the end of the Tournament. Email PJ Rosendahl </span><span style="color: rgb(35\, 49\, 46)\; font-family: 'Open Sans'\, Helvetica\, Arial\, sans-serif\; font-size: 16px\; line-height: 24px\;">at</span><a href="mailto:slhsgolfbooster@msn.com" style="box-sizing: border-box\; text-decoration: none\; color: rgb(23\, 111\, 159)\; font-family: 'Open Sans'\, Helvetica\, Arial\, sans-serif\; font-size: 16px\; line-height: 24px\;">slhsgolfbooster</a><a href="mailto:slhsgolfbooster@msn.com" style="box-sizing: border-box\; text-decoration: none\; color: rgb(23\, 111\, 159)\; font-family: 'Open Sans'\, Helvetica\, Arial\, sans-serif\; font-size: 16px\; line-height: 24px\;">@msn.com</a><span style="color: rgb(35\, 49\, 46)\; font-family: 'Open Sans'\, Helvetica\, Arial\, sans-serif\; font-size: 16px\; line-height: 24px\;">&nbsp\;for more information.</span>
LOCATION:Heritage Golf Course at Westmoor 10555 Westmoor Dr Broomfield\, CO 80021
UID:e.2690.1511
SEQUENCE:3
DTSTAMP:20260422T132355Z
URL:https://www.westminsterchamber.biz/events/details/member-event-2016-slhs-golfing-for-gators-scramble-06-07-2016-1511
END:VEVENT

END:VCALENDAR
