BEGIN:VCALENDAR
VERSION:2.0
PRODID:-//ChamberMaster//Event Calendar 2.0//EN
METHOD:PUBLISH
X-PUBLISHED-TTL:P3D
REFRESH-INTERVAL:P3D
CALSCALE:GREGORIAN
BEGIN:VEVENT
DTSTART:20160514T160000Z
DTEND:20160514T200000Z
X-MICROSOFT-CDO-ALLDAYEVENT:FALSE
SUMMARY:Member Event: 2016 Spring Storm at the Swamp
DESCRIPTION:A community celebrating education and fund raiser for Standley Lake High School\, Mandalay Middle School\, Wayne Carl Middle School\, Adams Elementary\, Lukas Elementary\, Ryan Elementary\, Semper Elementary\, Sheridan Green Elementary\, and Witt Elementary. For more information please contact PJ Rosendahl via email at slhsgolfbooster@msn.com
X-ALT-DESC;FMTTYPE=text/html:<span style="color: rgb(35\, 49\, 46)\; font-family: 'Open Sans'\, Helvetica\, Arial\, sans-serif\; font-size: 16px\; line-height: 24px\;">A community celebrating education and fund raiser for Standley Lake High School\, Mandalay Middle School\, Wayne Carl Middle School\, Adams Elementary\, Lukas Elementary\, Ryan Elementary\, Semper Elementary\, Sheridan Green Elementary\, and Witt Elementary. For more information please contact PJ Rosendahl via email </span><span style="color: rgb(35\, 49\, 46)\; font-family: 'Open Sans'\, Helvetica\, Arial\, sans-serif\; font-size: 16px\; line-height: 24px\;">at&nbsp\;</span><a href="mailto:slhsgolfbooster@msn.com" style="box-sizing: border-box\; text-decoration: none\; color: rgb(23\, 111\, 159)\; font-family: 'Open Sans'\, Helvetica\, Arial\, sans-serif\; font-size: 16px\; line-height: 24px\;">slhsgolfbooster</a><a href="mailto:slhsgolfbooster@msn.com" style="box-sizing: border-box\; text-decoration: none\; color: rgb(23\, 111\, 159)\; font-family: 'Open Sans'\, Helvetica\, Arial\, sans-serif\; font-size: 16px\; line-height: 24px\;">@msn.com</a>
LOCATION:Standley Lake Boosters 9300 W. 104th Ave Westminster\, CO 80021
UID:e.2690.1512
SEQUENCE:3
DTSTAMP:20260422T170958Z
URL:https://www.westminsterchamber.biz/events/details/member-event-2016-spring-storm-at-the-swamp-05-14-2016-1512
END:VEVENT

END:VCALENDAR
