BEGIN:VCALENDAR
VERSION:2.0
PRODID:-//ChamberMaster//Event Calendar 2.0//EN
METHOD:PUBLISH
X-PUBLISHED-TTL:P3D
REFRESH-INTERVAL:P3D
CALSCALE:GREGORIAN
BEGIN:VEVENT
DTSTART:20160418T220000Z
DTEND:20160419T010000Z
X-MICROSOFT-CDO-ALLDAYEVENT:FALSE
SUMMARY:Member Event: 4BR's "Spring Fling Networking Event"
DESCRIPTION:Are you ready for networking 4BR Spring Fling style? Join us for all things island including the networking! Tickets are $15 in advance or $25 day of the event. Join us for FUN\, Phenomenal Networking\, our Island Photo Booth\, cash bar and food of course! Don't forget to wear your best island garb :) Hawaiian shirts and flip flops are En Vogue!! Come "Hang Loose" with us. We look forward to seeing you there!!  Get you tickets here:  http://4br.biz/event/spring-fling/
X-ALT-DESC;FMTTYPE=text/html:<span style="color: rgb(35\, 49\, 46)\; font-family: 'Open Sans'\, Helvetica\, Arial\, sans-serif\; font-size: 16px\; line-height: 24px\;">Are you ready for networking 4BR Spring Fling style? Join us for all things island including the networking! Tickets are $15 in advance or $25 day of the event. Join us for FUN\, Phenomenal Networking\, our Island Photo Booth\, cash bar and food of course! Don&#39\;t forget to wear your best island garb :) Hawaiian shirts and flip flops are En Vogue!! Come &quot\;Hang Loose&quot\; with us. We look forward to seeing you there!!&nbsp\; Get you tickets here:&nbsp\;&nbsp\;</span><a href="http://4br.biz/event/spring-fling/" style="box-sizing: border-box\; text-decoration: none\; color: rgb(23\, 111\, 159)\; font-family: 'Open Sans'\, Helvetica\, Arial\, sans-serif\; font-size: 16px\; line-height: 24px\;">http://4br.biz/event/spring-fling/</a>
LOCATION:Bar Louie in the Westminster Promenade 10661 Westminster Boulevard Westminster\, CO 80031
UID:e.2690.1513
SEQUENCE:3
DTSTAMP:20260422T190044Z
URL:https://www.westminsterchamber.biz/events/details/member-event-4br-s-spring-fling-networking-event-04-18-2016-1513
END:VEVENT

END:VCALENDAR
