BEGIN:VCALENDAR
VERSION:2.0
PRODID:-//ChamberMaster//Event Calendar 2.0//EN
METHOD:PUBLISH
X-PUBLISHED-TTL:P3D
REFRESH-INTERVAL:P3D
CALSCALE:GREGORIAN
BEGIN:VEVENT
DTSTART:20160909T133000Z
DTEND:20160909T233000Z
X-MICROSOFT-CDO-ALLDAYEVENT:FALSE
SUMMARY:Member Event: 6th Annual "theguyonthecorner!" Community Fundraiser
DESCRIPTION:6th Annual "theguyonthecorner!" Community Fundraiser benefiting\n\nGrowing Home\n\na Westminster based non-profit.
X-ALT-DESC;FMTTYPE=text/html:<h1 style="text-align:center"><strong>6th Annual &quot\;theguyonthecorner!&quot\; Community Fundraiser&nbsp\;benefiting<br />\nGrowing Home<br />\na Westminster based non-profit.</strong></h1>\n
LOCATION:Westbrook Shopping Center - 9100 W 100th Ave Westminster CO
UID:e.2690.2724
SEQUENCE:3
DTSTAMP:20260422T083627Z
URL:https://www.westminsterchamber.biz/events/details/member-event-6th-annual-theguyonthecorner-community-fundraiser-09-09-2016-2724
END:VEVENT

END:VCALENDAR
