BEGIN:VCALENDAR
VERSION:2.0
PRODID:-//ChamberMaster//Event Calendar 2.0//EN
METHOD:PUBLISH
X-PUBLISHED-TTL:P3D
REFRESH-INTERVAL:P3D
CALSCALE:GREGORIAN
BEGIN:VEVENT
DTSTART:20161020T233000Z
DTEND:20161021T013000Z
X-MICROSOFT-CDO-ALLDAYEVENT:FALSE
SUMMARY:Member Event: Blogging: The Voice of Your Expertise
DESCRIPTION:So you have a new website\, now what?\n\nWhen people come to your website\, they're having a conversation with you.  They will either remember you\, or they won't.  Making an impactful first impression is an excellent start\, but forming a lasting relationship requires purposeful content.\n\nHaving a reputation as an industry professional doesn't come without investing time to reach your audience through digital media.\n\nThe best content your business can produce does more than answer your customer's questions.  It should help them better understand how you can solve their problems.\n\nSo\, how can you set your business on the path to blogging success?\nJoin us as we learn how to become better writers\, build strong foundations for content\, and use industry keywords to strategically attract new\, local audiences like bees to flowers.
X-ALT-DESC;FMTTYPE=text/html:<p><span style="background-color:transparent\; color:rgb(0\, 0\, 0)\; font-family:arial\; font-size:16px">So you have a new website\, now what?</span></p>\n\n<p><span style="background-color:transparent\; color:rgb(0\, 0\, 0)\; font-family:arial\; font-size:16px">When people come to your website\, they&rsquo\;re having a conversation with you. &nbsp\;They will either remember you\, or they won&rsquo\;t. &nbsp\;Making an impactful first impression is an excellent start\, but forming a lasting relationship requires purposeful content.</span></p>\n\n<p><span style="background-color:transparent\; color:rgb(0\, 0\, 0)\; font-family:arial\; font-size:16px">Having a reputation as an industry professional doesn&rsquo\;t come without investing time to reach your audience through digital media.</span></p>\n\n<p><span style="background-color:transparent\; color:rgb(0\, 0\, 0)\; font-family:arial\; font-size:16px">The best content your business can produce does more than answer your customer&rsquo\;s questions. &nbsp\;It should help them better understand how you can solve their problems.</span></p>\n\n<p><span style="background-color:transparent\; color:rgb(0\, 0\, 0)\; font-family:arial\; font-size:16px">So\, how can you set your business on the path to blogging success?</span></p>\n<span style="background-color:transparent\; color:rgb(0\, 0\, 0)\; font-family:arial\; font-size:16px">Join us as we learn how to become better writers\, build strong foundations for content\, and use industry keywords to strategically attract new\, local audiences like bees to flowers.</span>
LOCATION:DaVinci Institute 9191 N. Sheridan Blvd\, Ste 300 Westminster\, CO
UID:e.2690.2750
SEQUENCE:3
DTSTAMP:20260422T070441Z
URL:https://www.westminsterchamber.biz/events/details/member-event-blogging-the-voice-of-your-expertise-2750
END:VEVENT

END:VCALENDAR
