BEGIN:VCALENDAR
VERSION:2.0
PRODID:-//ChamberMaster//Event Calendar 2.0//EN
METHOD:PUBLISH
X-PUBLISHED-TTL:P3D
REFRESH-INTERVAL:P3D
CALSCALE:GREGORIAN
BEGIN:VEVENT
DTSTART:20160608T130000Z
DTEND:20160608T140000Z
X-MICROSOFT-CDO-ALLDAYEVENT:FALSE
SUMMARY:Member Event: Book Review: Go Givers Leaders Book
DESCRIPTION:Join the Go Givers group for a review and discussion of the Go Givers Leader book by Bob Berg.  You are encouraged to attend\, enjoy\, and learn more even if you have not yet read the book.
X-ALT-DESC;FMTTYPE=text/html:Join the Go Givers group for a review and discussion of the Go Givers Leader book by Bob Berg.&nbsp\; You are encouraged to attend\, enjoy\, and learn more even if you have not yet read the book.
LOCATION:The Egg & I 8025 Sheridan Blvd\, #Y Arvada\, CO 80003
UID:e.2690.2443
SEQUENCE:3
DTSTAMP:20260422T134626Z
URL:https://www.westminsterchamber.biz/events/details/member-event-book-review-go-givers-leaders-book-06-08-2016-2443
END:VEVENT

END:VCALENDAR
