BEGIN:VCALENDAR
VERSION:2.0
PRODID:-//ChamberMaster//Event Calendar 2.0//EN
METHOD:PUBLISH
X-PUBLISHED-TTL:P3D
REFRESH-INTERVAL:P3D
CALSCALE:GREGORIAN
BEGIN:VEVENT
DTSTART:20160803T233000Z
DTEND:20160804T020000Z
X-MICROSOFT-CDO-ALLDAYEVENT:FALSE
SUMMARY:Member Event: Country Financial Denver North Agency Career Night
DESCRIPTION:Come join us for a happy hour career night right here in our Broomfield office. For more than 90 years COUNTRY Financial has been protecting cars\, homes\, businesses and lives. As a COUNTRY Financial Representative you can achieve unlimited income potential\, enjoy a flexible schedule and make an impact in your community! We offer a competitive salary\, plus commissions and bonuses\, benefits\, paid office expenses\, and flexibility. If you would like to learn more about the Financial Representative career or may know a good candidate\, come join us on August 3rd!
X-ALT-DESC;FMTTYPE=text/html:Come join us for a happy hour career night right here in our Broomfield office. For more than 90 years COUNTRY Financial has been protecting cars\, homes\, businesses and lives. As a COUNTRY Financial Representative you can achieve unlimited income potential\, enjoy a flexible schedule and make an impact in your community! We offer a competitive salary\, plus commissions and bonuses\, benefits\, paid office expenses\, and flexibility. If you would like to learn more about the Financial Representative career or may know a good candidate\, come join us on August 3rd!
LOCATION:380 Interlocken Crescent Ste 300\, Broomfield\, CO 80021
UID:e.2690.2715
SEQUENCE:3
DTSTAMP:20260422T100135Z
URL:https://www.westminsterchamber.biz/events/details/member-event-country-financial-denver-north-agency-career-night-08-03-2016-2715
END:VEVENT

END:VCALENDAR
