BEGIN:VCALENDAR
VERSION:2.0
PRODID:-//ChamberMaster//Event Calendar 2.0//EN
METHOD:PUBLISH
X-PUBLISHED-TTL:P3D
REFRESH-INTERVAL:P3D
CALSCALE:GREGORIAN
BEGIN:VEVENT
DTSTART:20160426T143000Z
DTEND:20160427T003000Z
X-MICROSOFT-CDO-ALLDAYEVENT:FALSE
SUMMARY:Member Event: Coworking Strategies to Find Your Next Career
DESCRIPTION:Are you stuck in a career that's going nowhere?\n\nPerhaps you're just burned out with the meaningless drudgeries of day-to-day living. Well\, we'd like to offer you a way out.\n\nFinding a path to your next career instantly places you in the awkward position of being the outsider. No friends\, no mentors\, and no easy way to break into these new social circles.\n\nThat's where we come in. Coworking is an easy way to rub elbows with people who you'd otherwise never have an opportunity to meet. This is something we refer to as "positive human collisions."\n\nSo what is it that makes coworking so effective\, and is it right for you?\n\nLoosely defined\, coworking is a membership-based workplace where diverse groups of freelancers\, remote workers\, and other independent professionals work together in a shared\, communal-like setting.\n\nKeep in mind that 90% of what happens in life happens from just showing up!\n\nIn this workshop\, DaVinci Institute founder and resident futurist\, Thomas Frey\, will lead the discussion on strategies for leveraging your coworking experience. He will also step you through nine ways that an effective coworking strategy can become a total game-changer both for you personally\, your career\, and your social circles.\n\nThose who attend will tour the DaVinci Institute\, talk to a number of seasoned coworkers\, and will receive a FREE WEEK of coworking to better understand the experience firsthand.\n\nTowards the end of the day\, coworkers will be treated to a complimentary beer at nearby Kokopelli Beer Company.\n\nBring your laptop and join us for this fascinating new work experience.\n\n \n\n8:30am: Begin setting up workstations\n\n9:00am: Presentation starts\n\n10:30am: Snacks provided by La Patisserie Francaise\n\nWork for the rest of the day\n\n5pm: Head to Kokopelli Beer Company for a free drink\n\n6:30pm: Geeks who Drink Trivia at Kokopelli\n\n***Registration required for this event
X-ALT-DESC;FMTTYPE=text/html:<p style="font: 16px/24px &quot\;Open Sans&quot\;\, Helvetica\, Arial\, sans-serif\; color: rgb(35\, 49\, 46)\; text-transform: none\; text-indent: 0px\; letter-spacing: normal\; margin-top: 0px\; word-spacing: 0px\; white-space: normal\; box-sizing: border-box\; widows: 1\; font-size-adjust: none\; font-stretch: normal\; -webkit-text-stroke-width: 0px\;"><em style="font-style: italic\; box-sizing: border-box\;"><strong style="font-weight: bold\; box-sizing: border-box\;">Are you stuck in a career that&rsquo\;s going nowhere?</strong></em></p>\n\n<p style="font: 16px/24px &quot\;Open Sans&quot\;\, Helvetica\, Arial\, sans-serif\; color: rgb(35\, 49\, 46)\; text-transform: none\; text-indent: 0px\; letter-spacing: normal\; word-spacing: 0px\; white-space: normal\; box-sizing: border-box\; widows: 1\; font-size-adjust: none\; font-stretch: normal\; -webkit-text-stroke-width: 0px\;">Perhaps you&rsquo\;re just burned out with the meaningless drudgeries of day-to-day living. Well\, we&rsquo\;d like to offer you a way out.</p>\n\n<p style="font: 16px/24px &quot\;Open Sans&quot\;\, Helvetica\, Arial\, sans-serif\; color: rgb(35\, 49\, 46)\; text-transform: none\; text-indent: 0px\; letter-spacing: normal\; word-spacing: 0px\; white-space: normal\; box-sizing: border-box\; widows: 1\; font-size-adjust: none\; font-stretch: normal\; -webkit-text-stroke-width: 0px\;">Finding a path to your next career instantly places you in the awkward position of being the outsider. No friends\, no mentors\, and no easy way to break into these new social circles.</p>\n\n<p style="font: 16px/24px &quot\;Open Sans&quot\;\, Helvetica\, Arial\, sans-serif\; color: rgb(35\, 49\, 46)\; text-transform: none\; text-indent: 0px\; letter-spacing: normal\; word-spacing: 0px\; white-space: normal\; box-sizing: border-box\; widows: 1\; font-size-adjust: none\; font-stretch: normal\; -webkit-text-stroke-width: 0px\;">That&rsquo\;s where we come in. Coworking is an easy way to rub elbows with people who you&rsquo\;d otherwise never have an opportunity to meet. This is something we refer to as &ldquo\;positive human collisions.&rdquo\;</p>\n\n<p style="font: 16px/24px &quot\;Open Sans&quot\;\, Helvetica\, Arial\, sans-serif\; color: rgb(35\, 49\, 46)\; text-transform: none\; text-indent: 0px\; letter-spacing: normal\; word-spacing: 0px\; white-space: normal\; box-sizing: border-box\; widows: 1\; font-size-adjust: none\; font-stretch: normal\; -webkit-text-stroke-width: 0px\;">So what is it that makes coworking so effective\, and is it right for you?</p>\n\n<p style="font: 16px/24px &quot\;Open Sans&quot\;\, Helvetica\, Arial\, sans-serif\; color: rgb(35\, 49\, 46)\; text-transform: none\; text-indent: 0px\; letter-spacing: normal\; word-spacing: 0px\; white-space: normal\; box-sizing: border-box\; widows: 1\; font-size-adjust: none\; font-stretch: normal\; -webkit-text-stroke-width: 0px\;">Loosely defined\, coworking is a membership-based workplace where diverse groups of freelancers\, remote workers\, and other independent professionals work together in a shared\, communal-like setting.</p>\n\n<p style="font: 16px/24px &quot\;Open Sans&quot\;\, Helvetica\, Arial\, sans-serif\; color: rgb(35\, 49\, 46)\; text-transform: none\; text-indent: 0px\; letter-spacing: normal\; word-spacing: 0px\; white-space: normal\; box-sizing: border-box\; widows: 1\; font-size-adjust: none\; font-stretch: normal\; -webkit-text-stroke-width: 0px\;">Keep in mind that 90% of what happens in life happens from just showing up!</p>\n\n<p style="font: 16px/24px &quot\;Open Sans&quot\;\, Helvetica\, Arial\, sans-serif\; color: rgb(35\, 49\, 46)\; text-transform: none\; text-indent: 0px\; letter-spacing: normal\; word-spacing: 0px\; white-space: normal\; box-sizing: border-box\; widows: 1\; font-size-adjust: none\; font-stretch: normal\; -webkit-text-stroke-width: 0px\;">In this workshop\, DaVinci Institute founder and resident futurist\, Thomas Frey\, will lead the discussion on strategies for leveraging your coworking experience. He will also step you through nine ways that an effective coworking strategy can become a total game-changer both for you personally\, your career\, and your social circles.</p>\n\n<p style="font: 16px/24px &quot\;Open Sans&quot\;\, Helvetica\, Arial\, sans-serif\; color: rgb(35\, 49\, 46)\; text-transform: none\; text-indent: 0px\; letter-spacing: normal\; word-spacing: 0px\; white-space: normal\; box-sizing: border-box\; widows: 1\; font-size-adjust: none\; font-stretch: normal\; -webkit-text-stroke-width: 0px\;">Those who attend will tour the DaVinci Institute\, talk to a number of seasoned coworkers\, and will receive a FREE WEEK of coworking to better understand the experience firsthand.</p>\n\n<p style="font: 16px/24px &quot\;Open Sans&quot\;\, Helvetica\, Arial\, sans-serif\; color: rgb(35\, 49\, 46)\; text-transform: none\; text-indent: 0px\; letter-spacing: normal\; word-spacing: 0px\; white-space: normal\; box-sizing: border-box\; widows: 1\; font-size-adjust: none\; font-stretch: normal\; -webkit-text-stroke-width: 0px\;">Towards the end of the day\, coworkers will be treated to a complimentary beer at nearby Kokopelli Beer Company.</p>\n\n<p style="font: 16px/24px &quot\;Open Sans&quot\;\, Helvetica\, Arial\, sans-serif\; color: rgb(35\, 49\, 46)\; text-transform: none\; text-indent: 0px\; letter-spacing: normal\; word-spacing: 0px\; white-space: normal\; box-sizing: border-box\; widows: 1\; font-size-adjust: none\; font-stretch: normal\; -webkit-text-stroke-width: 0px\;">Bring your laptop and join us for this fascinating new work experience.</p>\n\n<p style="font: 16px/24px &quot\;Open Sans&quot\;\, Helvetica\, Arial\, sans-serif\; color: rgb(35\, 49\, 46)\; text-transform: none\; text-indent: 0px\; letter-spacing: normal\; word-spacing: 0px\; white-space: normal\; box-sizing: border-box\; widows: 1\; font-size-adjust: none\; font-stretch: normal\; -webkit-text-stroke-width: 0px\;">&nbsp\;</p>\n\n<p style="font: 16px/24px &quot\;Open Sans&quot\;\, Helvetica\, Arial\, sans-serif\; color: rgb(35\, 49\, 46)\; text-transform: none\; text-indent: 0px\; letter-spacing: normal\; word-spacing: 0px\; white-space: normal\; box-sizing: border-box\; widows: 1\; font-size-adjust: none\; font-stretch: normal\; -webkit-text-stroke-width: 0px\;">8:30am: Begin setting up workstations</p>\n\n<p style="font: 16px/24px &quot\;Open Sans&quot\;\, Helvetica\, Arial\, sans-serif\; color: rgb(35\, 49\, 46)\; text-transform: none\; text-indent: 0px\; letter-spacing: normal\; word-spacing: 0px\; white-space: normal\; box-sizing: border-box\; widows: 1\; font-size-adjust: none\; font-stretch: normal\; -webkit-text-stroke-width: 0px\;">9:00am: Presentation starts</p>\n\n<p style="font: 16px/24px &quot\;Open Sans&quot\;\, Helvetica\, Arial\, sans-serif\; color: rgb(35\, 49\, 46)\; text-transform: none\; text-indent: 0px\; letter-spacing: normal\; word-spacing: 0px\; white-space: normal\; box-sizing: border-box\; widows: 1\; font-size-adjust: none\; font-stretch: normal\; -webkit-text-stroke-width: 0px\;">10:30am: Snacks provided by La Patisserie Francaise</p>\n\n<p style="font: 16px/24px &quot\;Open Sans&quot\;\, Helvetica\, Arial\, sans-serif\; color: rgb(35\, 49\, 46)\; text-transform: none\; text-indent: 0px\; letter-spacing: normal\; word-spacing: 0px\; white-space: normal\; box-sizing: border-box\; widows: 1\; font-size-adjust: none\; font-stretch: normal\; -webkit-text-stroke-width: 0px\;">Work for the rest of the day</p>\n\n<p style="font: 16px/24px &quot\;Open Sans&quot\;\, Helvetica\, Arial\, sans-serif\; color: rgb(35\, 49\, 46)\; text-transform: none\; text-indent: 0px\; letter-spacing: normal\; word-spacing: 0px\; white-space: normal\; box-sizing: border-box\; widows: 1\; font-size-adjust: none\; font-stretch: normal\; -webkit-text-stroke-width: 0px\;">5pm: Head to Kokopelli Beer Company for a free drink</p>\n\n<p style="font: 16px/24px &quot\;Open Sans&quot\;\, Helvetica\, Arial\, sans-serif\; color: rgb(35\, 49\, 46)\; text-transform: none\; text-indent: 0px\; letter-spacing: normal\; word-spacing: 0px\; white-space: normal\; box-sizing: border-box\; widows: 1\; font-size-adjust: none\; font-stretch: normal\; -webkit-text-stroke-width: 0px\;">6:30pm: Geeks who Drink Trivia at Kokopelli</p>\n\n<p style="font: 16px/24px &quot\;Open Sans&quot\;\, Helvetica\, Arial\, sans-serif\; color: rgb(35\, 49\, 46)\; text-transform: none\; text-indent: 0px\; letter-spacing: normal\; word-spacing: 0px\; white-space: normal\; box-sizing: border-box\; widows: 1\; font-size-adjust: none\; font-stretch: normal\; -webkit-text-stroke-width: 0px\;"><a href="http://bit.ly/1pdgoyc" rel="nofollow" style="color: rgb(23\, 111\, 159)\; text-decoration: none\; box-sizing: border-box\;"><strong style="font-weight: bold\; box-sizing: border-box\;">***Registration required for this event</strong></a></p>\n
LOCATION:DaVinci Institute 9191 N. Sheridan Blvd\, Ste 300 Westminster\, CO 80031
UID:e.2690.1518
SEQUENCE:3
DTSTAMP:20260422T191012Z
URL:https://www.westminsterchamber.biz/events/details/member-event-coworking-strategies-to-find-your-next-career-04-26-2016-1518
END:VEVENT

END:VCALENDAR
