BEGIN:VCALENDAR
VERSION:2.0
PRODID:-//ChamberMaster//Event Calendar 2.0//EN
METHOD:PUBLISH
X-PUBLISHED-TTL:P3D
REFRESH-INTERVAL:P3D
CALSCALE:GREGORIAN
BEGIN:VEVENT
DTSTART:20160824T220000Z
DTEND:20160825T020000Z
X-MICROSOFT-CDO-ALLDAYEVENT:FALSE
SUMMARY:Member Event: Estate Sale
DESCRIPTION:Please join us for an end of summer Estate Sale \n\nwith refreshments\, samplings & door prizes!  \n\nStart your fall & holiday shopping early and find \n\ntreasures & furnishings for your home\,\n\napartment or dorm.\n\n \n\nSponsored by: Simply Storage\, \n\n Patty Adler\, Leave It To Me Estate Sales\, & \n\nKim Evans\, Realtor Your Castle Real Estate \n\nU.S. Bank\, Rado Distilling
X-ALT-DESC;FMTTYPE=text/html:<strong><span style="font-size: 18pt\;"><span style="font-family: century gothic\;">Please join us for an end of summer Estate Sale&nbsp\;</span></span></strong><br />\n<strong><span style="font-size: 18pt\;"><span style="font-family: century gothic\;">with refreshments\, samplings &amp\; door prizes! &nbsp\;</span></span></strong><br />\n<strong><span style="font-size: 18pt\;"><span style="font-family: century gothic\;">Start your fall &amp\; holiday shopping early and find </span></span></strong><br />\n<strong><span style="font-size: 18pt\;"><span style="font-family: century gothic\;">treasures &amp\; furnishings for your home\,<br />\napartment or dorm.</span></span></strong><br />\n&nbsp\;<br />\n<strong><span style="font-size: 14pt\;"><span style="font-family: century gothic\;">Sponsored by: Simply Storage\,&nbsp\;</span></span></strong><br />\n<strong><span style="font-size: 14pt\;"><span style="font-family: century gothic\;">&nbsp\;Patty Adler\, Leave It To Me Estate Sales\, &amp\;&nbsp\;</span></span></strong><br />\n<strong><span style="font-size: 14pt\;"><span style="font-family: century gothic\;">Kim Evans\, Realtor Your Castle Real Estate&nbsp\;</span></span></strong><br />\n<strong><span style="font-size: 14pt\;"><span style="font-family: century gothic\;">U.S. Bank\, Rado Distilling</span></span></strong><br />\n&nbsp\;<br />\n&nbsp\;
LOCATION:Simply Storage 4911 W 58th Ave Arvada\, CO 80003 303-421-0203
UID:e.2690.2726
SEQUENCE:3
DTSTAMP:20260422T095533Z
URL:https://www.westminsterchamber.biz/events/details/member-event-estate-sale-2726
END:VEVENT

END:VCALENDAR
