BEGIN:VCALENDAR
VERSION:2.0
PRODID:-//ChamberMaster//Event Calendar 2.0//EN
METHOD:PUBLISH
X-PUBLISHED-TTL:P3D
REFRESH-INTERVAL:P3D
CALSCALE:GREGORIAN
BEGIN:VEVENT
DTSTART:20160402T183000Z
DTEND:20160402T200000Z
X-MICROSOFT-CDO-ALLDAYEVENT:FALSE
SUMMARY:Member Event: Everyone Has a Brand
DESCRIPTION:Everyone Has a Brand: Increase Influence with Polished\, Put-Together\, Professional Presence with Marian Rothschild\, AICI FLC\, Certified Personal Image Consultant & Executive Coach\n\nWhen all elements of your professional image are in alignment with how you wish to be known\, you look and feel more confident\, authentic\, attractive\, and empowered. Make a great impression first time\, every time\, and master executive presence with intention\, direction and consistency for increased influence and polished presence.\n\nMarian Rothschild has been delivering programs for executives\, lawyers\, managers and leaders since 2008. She is passionate about helping her clients succeed\, and to that end\, she delivers information for transformation.\n\nRegister before 3/1/2016 to save $10! Visit our Facebook page for updates about this event.\n\nA two-hour practical\, interactive presentation includes:\n\n-Understanding a personal brand and why alignment is essential for everyone in business\n\n-Six elements of a confident\, put-together professional image for increased influence and brand consistency\n\n-Presenting first time\, every time with confidence using appropriate nonverbal communication and body language\n\n-Clear verbal communication with no vocal affectations for desired influence\n\n-Definition and examples of appropriate business casual wardrobe expectations\, do's & don'ts\n\n-Work on your Elevator Pitch and why it's not about you\n\n-Upgrade your LinkedIn Profile for maximum SEO\n\n-An Action Plan for how to achieve a professional image with alignment\, intention\, and consistency for polished presence and expanded success\n\n-Interactive exercises and lots of audience participation\n\nMarian Rothschild is a Certified Personal Image Consultant\, personal branding expert\, speaker\, and writer for newspaper\, magazines\, blogs and books. A former actress\, dancer\, and model\, Marian worked in theatre\, commercials\, and film\, with luminaries like Robert Conrad\, John Mahoney\, and Shelley Winters. Her award-winning\, Look Good Now and Always has reached #1 in it's category on Amazon.
X-ALT-DESC;FMTTYPE=text/html:<div class="field field-name-body field-type-text-with-summary field-label-above" style="box-sizing: border-box\; width: 528.5px\; padding-bottom: 1em\; color: rgb(35\, 49\, 46)\; font-family: 'Open Sans'\, Helvetica\, Arial\, sans-serif\; font-size: 16px\; line-height: 24px\;">\n<div class="field-items" style="box-sizing: border-box\;">\n<div class="field-item even" property="content:encoded" style="box-sizing: border-box\;">\n<p style="box-sizing: border-box\; margin-top: 0px\;"><strong style="box-sizing: border-box\;">Everyone Has a Brand: Increase Influence with Polished\, Put-Together\, Professional Presence with&nbsp\;Marian Rothschild\, AICI FLC\, Certified Personal Image Consultant &amp\; Executive Coach</strong></p>\n\n<p style="box-sizing: border-box\;">When all elements of your professional image are in alignment with how you wish to be known\, you look and feel more confident\, authentic\, attractive\, and empowered. Make a great impression first time\, every time\, and master executive presence with intention\, direction and consistency for increased influence and polished presence.</p>\n\n<p style="box-sizing: border-box\;">Marian Rothschild has been delivering programs for executives\, lawyers\, managers and leaders since 2008. She is passionate about helping her clients succeed\, and to that end\, she delivers information for transformation.</p>\n\n<p style="box-sizing: border-box\;"><a href="http://register%20before%203/1/2016%20to%20save%20$10!" rel="nofollow" style="box-sizing: border-box\; text-decoration: none\; color: rgb(23\, 111\, 159)\;">Register before 3/1/2016 to save $10!</a>&nbsp\;Visit our&nbsp\;<a href="https://www.facebook.com/events/1394705340837022/" rel="nofollow" style="box-sizing: border-box\; text-decoration: none\; color: rgb(23\, 111\, 159)\;">Facebook page</a>&nbsp\;for updates about this event.</p>\n\n<p style="box-sizing: border-box\;"><strong style="box-sizing: border-box\;">A two-hour practical\, interactive presentation includes:</strong></p>\n\n<p style="box-sizing: border-box\;">-Understanding a personal brand and why alignment is essential for everyone in business</p>\n\n<p style="box-sizing: border-box\;">-Six elements of a confident\, put-together professional image for increased influence and brand consistency</p>\n\n<p style="box-sizing: border-box\;">-Presenting first time\, every time with confidence using appropriate nonverbal communication and body language</p>\n\n<p style="box-sizing: border-box\;">-Clear verbal communication with no vocal affectations for desired influence</p>\n\n<p style="box-sizing: border-box\;">-Definition and examples of appropriate business casual wardrobe expectations\, do&rsquo\;s &amp\; don&rsquo\;ts</p>\n\n<p style="box-sizing: border-box\;">-Work on your Elevator Pitch and why it&rsquo\;s not about you</p>\n\n<p style="box-sizing: border-box\;">-Upgrade your LinkedIn Profile for maximum SEO</p>\n\n<p style="box-sizing: border-box\;">-An Action Plan for how to achieve a professional image with alignment\, intention\, and consistency for polished presence and expanded success</p>\n\n<p style="box-sizing: border-box\;">-Interactive exercises and lots of audience participation</p>\n\n<p style="box-sizing: border-box\;">Marian Rothschild is a Certified Personal Image Consultant\, personal branding expert\, speaker\, and writer for newspaper\, magazines\, blogs and books. A former actress\, dancer\, and model\, Marian worked in theatre\, commercials\, and film\, with luminaries like Robert Conrad\, John Mahoney\, and Shelley Winters. Her award-winning\, Look Good Now and Always has reached #1 in it&rsquo\;s category on Amazon.</p>\n</div>\n</div>\n</div>\n
LOCATION:DaVinci Institute 9191 North Sheridan Boulevard.\, Suite 300 Westminster\, CO 80031
UID:e.2690.3
SEQUENCE:3
DTSTAMP:20260422T185750Z
URL:https://www.westminsterchamber.biz/events/details/member-event-everyone-has-a-brand-04-02-2016-3
END:VEVENT

END:VCALENDAR
