BEGIN:VCALENDAR
VERSION:2.0
PRODID:-//ChamberMaster//Event Calendar 2.0//EN
METHOD:PUBLISH
X-PUBLISHED-TTL:P3D
REFRESH-INTERVAL:P3D
CALSCALE:GREGORIAN
BEGIN:VEVENT
DTSTART:20160816T230000Z
DTEND:20160817T010000Z
X-MICROSOFT-CDO-ALLDAYEVENT:FALSE
SUMMARY:Member Event: Facebook 101 for Business Workshop
DESCRIPTION:Learn how to use Facebook to attract new clients to your business and stay in touch with your existing clients to grow your business and not lose your mind.
X-ALT-DESC;FMTTYPE=text/html:<span style="font-size: 20px\;"><span style="color: rgb(102\, 106\, 115)\; font-family: benton sans\,helvetica neue\,helvetica\,roboto\,arial\,sans-serif\;">Learn how to use Facebook to attract new clients to your business and stay in touch with your existing clients to grow your business and not lose your mind.</span></span>
LOCATION:College Hill Library at Front Range Community College 3705 W 112th Ave\, Westminster\, CO 80031
UID:e.2690.2718
SEQUENCE:3
DTSTAMP:20260422T095406Z
URL:https://www.westminsterchamber.biz/events/details/member-event-facebook-101-for-business-workshop-08-16-2016-2718
END:VEVENT

END:VCALENDAR
