BEGIN:VCALENDAR
VERSION:2.0
PRODID:-//ChamberMaster//Event Calendar 2.0//EN
METHOD:PUBLISH
X-PUBLISHED-TTL:P3D
REFRESH-INTERVAL:P3D
CALSCALE:GREGORIAN
BEGIN:VEVENT
DTSTART:20160628T150000Z
DTEND:20160629T003000Z
X-MICROSOFT-CDO-ALLDAYEVENT:FALSE
SUMMARY:Member Event: Free CoWorking Day
DESCRIPTION:Coworking. It's not about renting a desk\, it's about becoming a part of an entrepreneurial community\, about creating synergies between companies that helps each firm rise to the next level. The DaVinci Institute is already 75% full and we're moving very carefully to ensure that every company\, every person who joins our community brings value to the group.\n\nIt's so much more than just sitting at Starbucks\, sipping on a latte and listening to music on your headphones\, while you wonder why you aren't bursting with ideas\, creativity and enthusiasm for your self-driven career opportunities.\n\nReady to give it a try? We're looking forward to meeting you and showing you around.\n \n\nHere's the schedule:\n\n9:00am: Begin setting up workstations\n\n9:30am: Tour of DaVinci Institute\n\n10:30am: Snacks provided by La Patisserie Francaise\n\nCowork!!!\n\n5:00pm: Head to Kokopelli Beer Company for a free drink\n \n\nYes\, you read the schedule right: show up in the morning and you can enjoy our coworking community for the entire day. You'll have the opportunity to talk with other coworkers and other people interested in learning more about coworking\, and will leave with a voucher good for an entire week of additional coworking access without charge\, so you can really understand why community beats headphones firsthand.\n\nBut don't take off sharp at 5pm: We'll be heading to nearby Kokopelli Beer Company where everyone will be able to enjoy one of their locally brewed beers and continue the discussion about entrepreneurship\, business\, life and who knows what else?\n\nDon't miss out. Reinvent your workspace and business day: Bring your laptop and join us for this fascinating new work experience in the heart of Westminster.\n\n \n\n***Registration required for this event as seating is limited. Reserve your place today!
X-ALT-DESC;FMTTYPE=text/html:<p><span style="color:rgb(34\, 34\, 34)\; font-family:arial\; font-size:13.3333px">Coworking. It&rsquo\;s not about renting a desk\, it&rsquo\;s about becoming a part of an entrepreneurial community\, about creating synergies between companies that helps each firm rise to the next level. The DaVinci Institute is already 75% full and we&rsquo\;re moving very carefully to ensure that every company\, every person who joins our community brings value to the group.</span></p>\n\n<p><span style="color:rgb(34\, 34\, 34)\; font-family:arial\; font-size:13.3333px">It&rsquo\;s so much more than just sitting at Starbucks\, sipping on a latte and listening to music on your headphones\, while you wonder why you aren&rsquo\;t bursting with ideas\, creativity and enthusiasm for your self-driven career opportunities.</span></p>\n\n<p><span style="color:rgb(34\, 34\, 34)\; font-family:arial\; font-size:13.3333px">Ready to give it a try? We&rsquo\;re looking forward to meeting you and showing you around.</span></p>\n&nbsp\;\n\n<p><span style="color:rgb(34\, 34\, 34)\; font-family:arial\; font-size:13.3333px">Here&rsquo\;s the schedule:</span></p>\n\n<p><span style="color:rgb(34\, 34\, 34)\; font-family:arial\; font-size:13.3333px">9:00am: Begin setting up workstations</span></p>\n\n<p><span style="color:rgb(34\, 34\, 34)\; font-family:arial\; font-size:13.3333px">9:30am: Tour of DaVinci Institute</span></p>\n\n<p><span style="color:rgb(34\, 34\, 34)\; font-family:arial\; font-size:13.3333px">10:30am: Snacks provided by</span><a href="http://www.lapatbakery.com/" style="text-decoration:none\;"><span style="color:rgb(34\, 34\, 34)\; font-family:arial\; font-size:13.3333px"> </span><span style="color:rgb(0\, 136\, 204)\; font-family:arial\; font-size:13.3333px">La Patisserie Francaise</span></a></p>\n\n<p><span style="color:rgb(34\, 34\, 34)\; font-family:arial\; font-size:13.3333px">Cowork!!!</span></p>\n\n<p><span style="color:rgb(34\, 34\, 34)\; font-family:arial\; font-size:13.3333px">5:00pm: Head to Kokopelli Beer Company for a free drink</span></p>\n&nbsp\;\n\n<p><span style="color:rgb(34\, 34\, 34)\; font-family:arial\; font-size:13.3333px">Yes\, you read the schedule right: show up in the morning and you can enjoy our coworking community for the entire day. You&rsquo\;ll have the opportunity to talk with other coworkers and other people interested in learning more about coworking\, and will leave with a voucher good for an entire week of additional coworking access without charge\, so you can really understand why community beats headphones firsthand.</span></p>\n\n<p><span style="color:rgb(34\, 34\, 34)\; font-family:arial\; font-size:13.3333px">But don&rsquo\;t take off sharp at 5pm: We&rsquo\;ll be heading to nearby</span><a href="http://kokopellibeerco.com/" style="text-decoration:none\;"><span style="color:rgb(34\, 34\, 34)\; font-family:arial\; font-size:13.3333px"> </span><span style="color:rgb(0\, 136\, 204)\; font-family:arial\; font-size:13.3333px">Kokopelli Beer Company</span></a><span style="color:rgb(0\, 0\, 0)\; font-family:arial\; font-size:13.3333px"> where everyone will be able to enjoy one of their locally brewed beers and continue the discussion about entrepreneurship\, business\, life and who knows what else?</span></p>\n\n<p><span style="color:rgb(34\, 34\, 34)\; font-family:arial\; font-size:13.3333px">Don&rsquo\;t miss out. Reinvent your workspace and business day: Bring your laptop and join us for this fascinating new work experience in the heart of Westminster.</span><br />\n&nbsp\;</p>\n\n<p><span style="color:rgb(0\, 0\, 0)\; font-family:arial\; font-size:13.3333px">***Registration required for this event as seating is limited. Reserve your place today!</span></p>\n\n<div>&nbsp\;</div>\n
LOCATION:DaVinci Institute
UID:e.2690.2438
SEQUENCE:3
DTSTAMP:20260422T151738Z
URL:https://www.westminsterchamber.biz/events/details/member-event-free-coworking-day-06-28-2016-2438
END:VEVENT

END:VCALENDAR
