BEGIN:VCALENDAR
VERSION:2.0
PRODID:-//ChamberMaster//Event Calendar 2.0//EN
METHOD:PUBLISH
X-PUBLISHED-TTL:P3D
REFRESH-INTERVAL:P3D
CALSCALE:GREGORIAN
BEGIN:VEVENT
DTSTART:20160514T160000Z
DTEND:20160514T170000Z
X-MICROSOFT-CDO-ALLDAYEVENT:FALSE
SUMMARY:Member Event: Get Your Body Fat Burning--A Weight Loss Seminar
DESCRIPTION:It's not too late to get a jumpstart on weight and inch loss before Summer!\n\n\n\nJoin Megan Magee\, DTR and Amy Richardson\, CNT for a robust one-hour\, complementary seminar.  This one-hour\, information-packed\, FREE Seminar will teach you     \n\n\n	What you need to do to get your body into FAT BURNING MODE \n	The 10 reasons people do not burn fat\, and what you can do about it \n	Learn how to trigger your fat burning hormones \n	Find out why the wrong diet will drain you of your energy \n	Why some people exercise and exercise\, yet can't lose any weight  \n	Find out how to lose weight and FEEL GREAT!    \n\nPre-registration is required (303) 466-3232 or www.BurnFatBroomfield.com.
X-ALT-DESC;FMTTYPE=text/html:<span style="font-size:16px"><strong>It&#39\;s not too late to get a jumpstart on weight and inch loss before Summer!</strong></span><br />\n<br />\n<span style="font-size:14px"><span style="font-family:times new roman">Join Megan Magee\, DTR and Amy Richardson\, CNT for a robust one-hour\, complementary seminar.&nbsp\; </span></span><span style="color:black"><span style="font-size:medium"><span style="font-family:times new roman"><span style="font-size:14px">This </span>one-hour\, information-packed\, FREE Seminar will teach you&hellip\;&hellip\;&hellip\;&nbsp\;&nbsp\;</span></span></span>\n\n<ul>\n	<li><span style="font-size:11pt"><span style="color:black">What you need to do to get your body into FAT BURNING MODE&nbsp\;</span></span></li>\n	<li><span style="font-size:11pt"><span style="color:black">The 10 reasons people do not burn fat\, and what you can do about it&nbsp\;</span></span></li>\n	<li><span style="font-size:11pt"><span style="color:black">Learn how to trigger your fat burning hormones&nbsp\;</span></span></li>\n	<li><span style="font-size:11pt"><span style="color:black">Find out why the wrong diet will drain you of your energy&nbsp\;</span></span></li>\n	<li><span style="font-size:11pt"><span style="color:black">Why some people exercise and exercise\, yet can&#39\;t lose any weight&nbsp\;&nbsp\;</span></span></li>\n	<li><span style="font-size:11pt"><span style="color:black">Find out how to lose weight and FEEL GREAT!&nbsp\; &nbsp\;&nbsp\;</span></span></li>\n</ul>\nPre-registration is required (303) 466-3232 or <a href="http://www.BurnFatBroomfield.com">www.BurnFatBroomfield.com</a>.<br />\n&nbsp\;
LOCATION:54 Garden Center Broomfield CO 80020
UID:e.2690.2168
SEQUENCE:3
DTSTAMP:20260422T152713Z
URL:https://www.westminsterchamber.biz/events/details/member-event-get-your-body-fat-burning-a-weight-loss-seminar-05-14-2016-2168
END:VEVENT

END:VCALENDAR
