BEGIN:VCALENDAR
VERSION:2.0
PRODID:-//ChamberMaster//Event Calendar 2.0//EN
METHOD:PUBLISH
X-PUBLISHED-TTL:P3D
REFRESH-INTERVAL:P3D
CALSCALE:GREGORIAN
BEGIN:VEVENT
DTSTART:20160525T000000Z
DTEND:20160525T010000Z
X-MICROSOFT-CDO-ALLDAYEVENT:FALSE
SUMMARY:Member Event: Get Your Body Fat Burning--A Weight Loss Seminar
DESCRIPTION:Join Megan Magee\, DTR and Amy Richardson\, CNT for a robust one-hour\, complementary seminar.  \n\n\n\nThis one-hour\, information-packed\, FREE Seminar will teach you     \n\n\n	What you need to do to get your body into FAT BURNING MODE \n	The 10 reasons people do not burn fat\, and what you can do about it \n	Learn how to trigger your fat burning hormones \n	Find out why the wrong diet will drain you of your energy \n	Why some people exercise and exercise\, yet can't lose any weight  \n	Find out how to lose weight and FEEL GREAT!    \n\n	Pre-registration is required (303) 466-3232 or www.BurnFatBroomfield.com.
X-ALT-DESC;FMTTYPE=text/html:<span style="font-size:14pt"><span style="font-family:times new roman\,serif"><span style="color:rgb(51\, 51\, 51)">Join Megan Magee\, DTR and Amy Richardson\, CNT for a robust one-hour\, complementary seminar.&nbsp\; </span></span></span><br />\n<br />\n<span style="font-size:14pt"><span style="font-family:times new roman\,serif"><span style="color:black">This one-hour\, information-packed\, FREE Seminar will teach you&hellip\;&hellip\;&hellip\;&nbsp\;&nbsp\;</span></span></span>\n\n<ul>\n	<li><span style="font-size:14pt"><span style="font-family:times new roman\,serif"><span style="color:black">What you need to do to get your body into FAT BURNING MODE&nbsp\;</span></span></span></li>\n	<li><span style="font-size:14pt"><span style="font-family:times new roman\,serif"><span style="color:black">The 10 reasons people do not burn fat\, and what you can do about it&nbsp\;</span></span></span></li>\n	<li><span style="font-size:14pt"><span style="font-family:times new roman\,serif"><span style="color:black">Learn how to trigger your fat burning hormones&nbsp\;</span></span></span></li>\n	<li><span style="font-size:14pt"><span style="font-family:times new roman\,serif"><span style="color:black">Find out why the wrong diet will drain you of your energy&nbsp\;</span></span></span></li>\n	<li><span style="font-size:14pt"><span style="font-family:times new roman\,serif"><span style="color:black">Why some people exercise and exercise\, yet can&#39\;t lose any weight&nbsp\;&nbsp\;</span></span></span></li>\n	<li><span style="font-size:14pt"><span style="font-family:times new roman\,serif"><span style="color:black">Find out how to lose weight and FEEL GREAT!&nbsp\; &nbsp\;&nbsp\;</span></span></span><br />\n	<span style="font-size:14pt"><span style="font-family:times new roman\,serif"><span style="color:rgb(51\, 51\, 51)">Pre-registration is required (303) 466-3232 or <a href="http://www.burnfatbroomfield.com/"><span style="color:rgb(7\, 130\, 193)">www.BurnFatBroomfield.com</span></a>.</span></span></span></li>\n</ul>\n
LOCATION:54 Garden Center Broomfield CO 80020
UID:e.2690.2169
SEQUENCE:3
DTSTAMP:20260422T152053Z
URL:https://www.westminsterchamber.biz/events/details/member-event-get-your-body-fat-burning-a-weight-loss-seminar-05-24-2016-2169
END:VEVENT

END:VCALENDAR
