BEGIN:VCALENDAR
VERSION:2.0
PRODID:-//ChamberMaster//Event Calendar 2.0//EN
METHOD:PUBLISH
X-PUBLISHED-TTL:P3D
REFRESH-INTERVAL:P3D
CALSCALE:GREGORIAN
BEGIN:VEVENT
DTSTART:20160820T160000Z
DTEND:20160820T190000Z
X-MICROSOFT-CDO-ALLDAYEVENT:FALSE
SUMMARY:Member Event: Grand Opening at The Learning Experience
DESCRIPTION:We are having our Grand Opening Event! Please join us and learn all about TLE and what we have to offer the community for childcare needs! We will have Zumba\, Face Painting\, Food and Treats\, and More...
X-ALT-DESC;FMTTYPE=text/html:We are having our Grand Opening Event! Please join us and learn all about TLE and what we have to offer the community for childcare needs! We will have Zumba\, Face Painting\, Food and Treats\, and More...
LOCATION:We are located in the Standley Lake Marketplace\, at 10190 Wadsworth Pkwy\, Westminster\, CO 80021\, in the same shopping center as Scandinavian Designs.
UID:e.2690.2719
SEQUENCE:3
DTSTAMP:20260422T095407Z
URL:https://www.westminsterchamber.biz/events/details/member-event-grand-opening-at-the-learning-experience-08-20-2016-2719
END:VEVENT

END:VCALENDAR
