BEGIN:VCALENDAR
VERSION:2.0
PRODID:-//ChamberMaster//Event Calendar 2.0//EN
METHOD:PUBLISH
X-PUBLISHED-TTL:P3D
REFRESH-INTERVAL:P3D
CALSCALE:GREGORIAN
BEGIN:VEVENT
DTSTART:20160618T160000Z
DTEND:20160618T200000Z
X-MICROSOFT-CDO-ALLDAYEVENT:FALSE
SUMMARY:Member Event: Grease Monkey Grand Opening
DESCRIPTION:Event includes:\n\n- Door prizes\n\n- Free Giveaways\n\n- Food & Refreshments\n\nAnd Grand Opening Specials
X-ALT-DESC;FMTTYPE=text/html:<var><span style="font-size:22px"><span style="font-family:verdana"><span style="color:#FF0000"><strong>Event includes:</strong></span></span></span></var><br />\n<span style="font-size:16px"><span style="font-family:verdana">- Door prizes<br />\n- Free Giveaways<br />\n- Food &amp\; Refreshments<br />\nAnd Grand Opening Specials</span></span>
LOCATION:8450 Federal Blvd Westminster\, CO 80031
UID:e.2690.2171
SEQUENCE:3
DTSTAMP:20260422T132323Z
URL:https://www.westminsterchamber.biz/events/details/member-event-grease-monkey-grand-opening-06-18-2016-2171
END:VEVENT

END:VCALENDAR
