BEGIN:VCALENDAR
VERSION:2.0
PRODID:-//ChamberMaster//Event Calendar 2.0//EN
METHOD:PUBLISH
X-PUBLISHED-TTL:P3D
REFRESH-INTERVAL:P3D
CALSCALE:GREGORIAN
BEGIN:VEVENT
DTSTART:20160419T150000Z
DTEND:20160419T163000Z
X-MICROSOFT-CDO-ALLDAYEVENT:FALSE
SUMMARY:Member Event: Hazard Communication Train-the-Trainer
DESCRIPTION:Do you wonder if you are doing the right training on chemicals in your workplace?  Did you know that OSHA requires specific training and will start handing out fines in June 2016 for those that aren't doing it right?\n\nAll employers are required to train on the Hazard Communication standard if you or any of your employees use hazardous chemicals. Yes\, this includes Canned Air\, Lysol and Bleach products in addition to many more used throughout the day.\n\nThis is a Train-the-Trainer class and participants will walk away with the tools necessary to teach everyone in the workplace how to safely use the products they are required to use and understand the Law they are required to follow.
X-ALT-DESC;FMTTYPE=text/html:<p>Do you wonder if you are doing the right training on chemicals in your workplace? &nbsp\;Did you know that OSHA requires specific training and will start handing out fines in June 2016 for those that aren&rsquo\;t doing it right?</p>\n\n<p>All employers are required to train on the Hazard Communication standard if you or any of your employees use hazardous chemicals. Yes\, this includes Canned Air\, Lysol and Bleach products in addition to many more used throughout the day.</p>\n\n<p>This is a Train-the-Trainer class and participants will walk away with the tools necessary to teach everyone in the workplace how to safely use the products they are required to use and understand the Law they are required to follow.</p>\n
LOCATION:9035 Wadsworth Parkway\, Suite 3440 Westminster\, CO 80021
UID:e.2690.1517
SEQUENCE:3
DTSTAMP:20260422T185821Z
URL:https://www.westminsterchamber.biz/events/details/member-event-hazard-communication-train-the-trainer-04-19-2016-1517
END:VEVENT

END:VCALENDAR
