BEGIN:VCALENDAR
VERSION:2.0
PRODID:-//ChamberMaster//Event Calendar 2.0//EN
METHOD:PUBLISH
X-PUBLISHED-TTL:P3D
REFRESH-INTERVAL:P3D
CALSCALE:GREGORIAN
BEGIN:VEVENT
DTSTART:20160413T000000Z
DTEND:20160413T010000Z
X-MICROSOFT-CDO-ALLDAYEVENT:FALSE
SUMMARY:Member Event: How to Get Fat Burning: A Weight Loss Seminar
DESCRIPTION:Are you struggling with any of the following:\n\nInability to lose weight and maintain it\; belly fat\, or fat localized in one area that you can't get rid of (no matter how hard you try!)\; allergies (seasonal or food related)\; fatigue\; poor sleep\; hormones\; inflammation and pain\; digestive distress (gas\, bloating\, etc )\n\n...or just not feeling yourself?\n\nJoin Amy Richardson\, CNT and Megan Magee\, DTR of Living Well for a one-hour\, information-packed\, FREE Seminar that will teach you...\n\n\n	What you need to do to get your body into FAT BURNING MODE \n	The 10 reasons people do not burn fat\, and what you can do about it \n	Why your body type is important to know for weight loss \n	Learn how to trigger your fat burning hormones \n	Find out why the wrong diet will drain you of your energy \n	Why some people exercise and exercise\, yet can't lose any weight  \n	How to purify your body of toxins that stop the fat burning process \n	Find out why lack of energy and obesity are so closely related and exactly how to finally conquer both  \n	The role the liver plays in weight gain     \n\n\nFind out how to lose weight and FEEL GREAT!    \n\nYou are also going to learn why we can offer an AMAZING WEIGHT LOSS PROGRAM! \n\nThis seminar covers many amazing discoveries that will help you make the changes you need to in order to finally lose the excess weight and get the body you have always deserved. \n\nRSVP IS REQUIRED--303-466-3232 OR WWW.BURNFATBROOMFIELD.COM.
X-ALT-DESC;FMTTYPE=text/html:<p style="box-sizing: border-box\; margin-top: 0px\; color: rgb(35\, 49\, 46)\; font-family: 'Open Sans'\, Helvetica\, Arial\, sans-serif\; font-size: 16px\; line-height: 24px\;"><strong style="box-sizing: border-box\;">Are you struggling with any of the following:</strong></p>\n\n<p style="box-sizing: border-box\; color: rgb(35\, 49\, 46)\; font-family: 'Open Sans'\, Helvetica\, Arial\, sans-serif\; font-size: 16px\; line-height: 24px\;">Inability to lose weight and maintain it\; belly fat\, or fat localized in one area that you can&rsquo\;t get rid of (no matter how hard you try!)\; allergies (seasonal or food related)\; fatigue\; poor sleep\; hormones\; inflammation and pain\; digestive distress (gas\, bloating\, etc&hellip\;)</p>\n\n<p style="box-sizing: border-box\; color: rgb(35\, 49\, 46)\; font-family: 'Open Sans'\, Helvetica\, Arial\, sans-serif\; font-size: 16px\; line-height: 24px\;">...or just not feeling yourself?</p>\n\n<p style="box-sizing: border-box\; color: rgb(35\, 49\, 46)\; font-family: 'Open Sans'\, Helvetica\, Arial\, sans-serif\; font-size: 16px\; line-height: 24px\;"><strong style="box-sizing: border-box\;">Join Amy Richardson\, CNT and Megan Magee\, DTR of Living Well for a one-hour\, information-packed\, FREE Seminar that will teach you...</strong></p>\n\n<ul style="box-sizing: border-box\; color: rgb(35\, 49\, 46)\; font-family: 'Open Sans'\, Helvetica\, Arial\, sans-serif\; font-size: 16px\; line-height: 24px\;">\n	<li style="box-sizing: border-box\;">What you need to do to get your body into FAT BURNING MODE&nbsp\;</li>\n	<li style="box-sizing: border-box\;">The 10 reasons people do not burn fat\, and what you can do about it&nbsp\;</li>\n	<li style="box-sizing: border-box\;">Why your body type is important to know for weight loss&nbsp\;</li>\n	<li style="box-sizing: border-box\;">Learn how to trigger your fat burning hormones&nbsp\;</li>\n	<li style="box-sizing: border-box\;">Find out why the wrong diet will drain you of your energy&nbsp\;</li>\n	<li style="box-sizing: border-box\;">Why some people exercise and exercise\, yet can&#39\;t lose any weight&nbsp\;&nbsp\;</li>\n	<li style="box-sizing: border-box\;">How to purify your body of toxins that stop the fat burning process&nbsp\;</li>\n	<li style="box-sizing: border-box\;">Find out why lack of energy and obesity are so closely related and exactly how to finally conquer both&nbsp\;&nbsp\;</li>\n	<li style="box-sizing: border-box\;">The role the liver plays in weight gain&nbsp\;&nbsp\;&nbsp\;&nbsp\;&nbsp\;</li>\n</ul>\n\n<p style="box-sizing: border-box\; color: rgb(35\, 49\, 46)\; font-family: 'Open Sans'\, Helvetica\, Arial\, sans-serif\; font-size: 16px\; line-height: 24px\;">Find out how to lose weight and FEEL GREAT!&nbsp\; &nbsp\;&nbsp\;</p>\n\n<p style="box-sizing: border-box\; color: rgb(35\, 49\, 46)\; font-family: 'Open Sans'\, Helvetica\, Arial\, sans-serif\; font-size: 16px\; line-height: 24px\;">You are also going to learn why we can offer an&nbsp\;AMAZING WEIGHT LOSS PROGRAM!&nbsp\;</p>\n\n<p style="box-sizing: border-box\; color: rgb(35\, 49\, 46)\; font-family: 'Open Sans'\, Helvetica\, Arial\, sans-serif\; font-size: 16px\; line-height: 24px\;">This seminar covers many amazing discoveries that will help you make the changes you need to in order to finally lose the excess weight and get the body you have always deserved.&nbsp\;</p>\n\n<p style="box-sizing: border-box\; color: rgb(35\, 49\, 46)\; font-family: 'Open Sans'\, Helvetica\, Arial\, sans-serif\; font-size: 16px\; line-height: 24px\;"><strong style="box-sizing: border-box\;">RSVP IS REQUIRED--303-466-3232 OR WWW.BURNFATBROOMFIELD.COM.</strong></p>\n
LOCATION:Tuesday\, April 12\, 2016 - 6:00pm to 7:00pm
UID:e.2690.1514
SEQUENCE:3
DTSTAMP:20260422T190551Z
URL:https://www.westminsterchamber.biz/events/details/member-event-how-to-get-fat-burning-a-weight-loss-seminar-04-12-2016-1514
END:VEVENT

END:VCALENDAR
