BEGIN:VCALENDAR
VERSION:2.0
PRODID:-//ChamberMaster//Event Calendar 2.0//EN
METHOD:PUBLISH
X-PUBLISHED-TTL:P3D
REFRESH-INTERVAL:P3D
CALSCALE:GREGORIAN
BEGIN:VEVENT
DTSTART:20160924T150000Z
DTEND:20160924T230000Z
X-MICROSOFT-CDO-ALLDAYEVENT:FALSE
SUMMARY:Member Event: How to Land Your Dream Job :: Guaranteed Results
DESCRIPTION:Land the job you've been looking for within 90 days or your money back!\n\n\n\nVirtually nothing significant in life happens without persuasion. This was true the first time you borrowed your dad's car\, went on your first date\, or when Bill Gates decided to buy the operating system that would become the foundation of the world's largest software company.\n\n\n\nIt's a simple rule\, but we have to be able to talk people into things in order to get anywhere in life.\n\n\n\nFor many\, having a successful job interview with a hiring manager seems like an impossible barrier.\n\nWhat you have in your brain is not the universe\; it is your model of the universe. In many areas it is perfect\, in other areas it is working against you. This course is designed to help you with those "other areas."\n\n\n\nIn this workshop you will learn:\n\n\n	How to establish instant rapport.\n	How to get inside the neurology of the person you're interacting with and find common ground.\n	How to read the other party and overcome objections.\n	How to identify and resolve shortcomings to pave the way for a successful outcome.\n\n\nIn short\, this is a crash course full of power tools for sales\, communications\, influence\, and so much more. After completing this workshop a new and better version of you will emerge. We guarantee it!\n\n\n\nPlease join us on this magical journey.\n\n\n\nBIO:  Don C. Royal DC\n\nDon C. Royal is doctor of chiropractic medicine and a master practitioner of neurolinguistic programming. In his practice\, Don has been instrumental in changing the lives of hundreds of individuals\, witnessing firsthand the power and long term effects of these techniques.\n\n\n\nPRICE:  Members $79\, Non-Members $119\n\nRegister for How to Land Your Dream Job AND Use LinkedIn to Improve Your Job-Finding Skills and SAVE $25!\n\n\n\n*Proof of job interviews and application of learned tools needed to qualify for money-back guarantee. Must stay for entire duration of bootcamp.
X-ALT-DESC;FMTTYPE=text/html:<p><em><span style="color:rgb(0\, 0\, 0)\; font-family:arial\; font-size:12.6667px">Land the job you&rsquo\;ve been looking for within 90 days or your money back!</span></em><br />\n<br />\n<span style="color:rgb(0\, 0\, 0)\; font-family:arial\; font-size:12.6667px">Virtually nothing significant in life happens without persuasion. This was true the first time you borrowed your dad&rsquo\;s car\, went on your first date\, or when Bill Gates decided to buy the operating system that would become the foundation of the world&rsquo\;s largest software company.</span><br />\n<br />\n<span style="color:rgb(0\, 0\, 0)\; font-family:arial\; font-size:12.6667px">It&rsquo\;s a simple rule\, but we have to be able to talk people into things in order to get anywhere in life.</span><br />\n<br />\n<span style="color:rgb(0\, 0\, 0)\; font-family:arial\; font-size:12.6667px">For many\, having a successful job interview with a hiring manager seems like an impossible barrier.</span></p>\n\n<p><span style="color:rgb(0\, 0\, 0)\; font-family:arial\; font-size:12.6667px">What you have in your brain is not the universe\; it is your model of the universe. In many areas it is perfect\, in other areas it is working against you. This course is designed to help you with those &ldquo\;other areas.&rdquo\;</span><br />\n<br />\n<strong><span style="color:rgb(0\, 0\, 0)\; font-family:arial\; font-size:12.6667px">In this workshop you will learn:</span></strong></p>\n\n<ul>\n	<li><span style="color:rgb(0\, 0\, 0)\; font-family:arial\; font-size:12.6667px">How to establish instant rapport.</span></li>\n	<li><span style="color:rgb(0\, 0\, 0)\; font-family:arial\; font-size:12.6667px">How to get inside the neurology of the person you&rsquo\;re interacting with and find common ground.</span></li>\n	<li><span style="color:rgb(0\, 0\, 0)\; font-family:arial\; font-size:12.6667px">How to read the other party and overcome objections.</span></li>\n	<li><span style="color:rgb(0\, 0\, 0)\; font-family:arial\; font-size:12.6667px">How to identify and resolve shortcomings to pave the way for a successful outcome.</span></li>\n</ul>\n\n<p><span style="color:rgb(0\, 0\, 0)\; font-family:arial\; font-size:12.6667px">In short\, this is a crash course full of power tools for sales\, communications\, influence\, and so much more. After completing this workshop a new and better version of you will emerge. We guarantee it!</span><br />\n<br />\n<span style="color:rgb(0\, 0\, 0)\; font-family:arial\; font-size:12.6667px">Please join us on this magical journey.</span><br />\n<br />\n<strong>BIO:</strong><span style="color:rgb(0\, 0\, 0)\; font-family:arial\; font-size:12.6667px">&nbsp\;&nbsp\;Don C. Royal DC</span><br />\n<span style="color:rgb(0\, 0\, 0)\; font-family:arial\; font-size:12.6667px">Don C. Royal is doctor of chiropractic medicine and a master practitioner of neurolinguistic programming. In his practice\, Don has been instrumental in changing the lives of hundreds of individuals\, witnessing firsthand the power and long term effects of these techniques.</span><br />\n<br />\n<strong>PRICE:&nbsp\;</strong><span style="color:rgb(0\, 0\, 0)\; font-family:arial\; font-size:12px">&nbsp\;Members $79\, Non-Members $119</span><br />\n<span style="color:rgb(0\, 0\, 0)\; font-family:arial\; font-size:12px">Register for&nbsp\;</span><strong>How to Land Your Dream Job</strong><span style="color:rgb(0\, 0\, 0)\; font-family:arial\; font-size:12px">&nbsp\;AND&nbsp\;</span><strong>Use LinkedIn to Improve Your Job-Finding Skills</strong><span style="color:rgb(0\, 0\, 0)\; font-family:arial\; font-size:12px">&nbsp\;and&nbsp\;</span><strong>SAVE $25</strong><span style="color:rgb(0\, 0\, 0)\; font-family:arial\; font-size:12px">!</span><br />\n<br />\n<em>*Proof of job interviews and application of learned tools needed to qualify for money-back guarantee. Must stay for entire duration of bootcamp.</em></p>\n
LOCATION:DaVinci Institute 9191 N. Sheridan Blvd\, Ste 300 ?Westminster\, CO 80031
UID:e.2690.2731
SEQUENCE:3
DTSTAMP:20260422T084053Z
URL:https://www.westminsterchamber.biz/events/details/member-event-how-to-land-your-dream-job-guaranteed-results-2731
END:VEVENT

END:VCALENDAR
