BEGIN:VCALENDAR
VERSION:2.0
PRODID:-//ChamberMaster//Event Calendar 2.0//EN
METHOD:PUBLISH
X-PUBLISHED-TTL:P3D
REFRESH-INTERVAL:P3D
CALSCALE:GREGORIAN
BEGIN:VEVENT
DTSTART:20160727T130000Z
DTEND:20160727T140000Z
X-MICROSOFT-CDO-ALLDAYEVENT:FALSE
SUMMARY:Member Event: How To Prepare and Deliver a Brilliant 30 Second Introduction
DESCRIPTION:Does your 30 Second Intro convey your passion about your service or product? Do you fumble around and bore people with unprepared and disorganized words with little meaning? Do you focus everyone's attention on your message when you speak? If you familiar with any of the foregoing issues\, then join us on July 27 and learn how to create Brilliant 30 Second Intro that draws attention to you and your message.\n\n\n\nCraig Stout\, Professor Medicare\, has a long  background in the areas of curing Public Speaking Fear and preparing and delivering training. He is an expert in designing and delivering 15 and 30 second intros. This if a free training.
X-ALT-DESC;FMTTYPE=text/html:Does your 30 Second Intro convey your passion about your service or product? Do you fumble around and bore people with unprepared and disorganized words with little meaning? Do you focus everyone&#39\;s attention on your message when you speak? If you familiar with any of the foregoing issues\, then join us on July 27 and learn how to create Brilliant 30 Second Intro that draws attention to you and your message.<br />\n<br />\nCraig Stout\, Professor Medicare\, has a long &nbsp\;background in the areas of curing Public Speaking Fear and preparing and delivering training. He is an expert in designing and delivering 15 and 30 second intros. This if a free training.&nbsp\;<br />\n<br />\n&nbsp\;
LOCATION:At the Go Givers Group The Egg and I 8025 Sheridan Avenue Arvada 80003
UID:e.2690.2717
SEQUENCE:3
DTSTAMP:20260422T113915Z
URL:https://www.westminsterchamber.biz/events/details/member-event-how-to-prepare-and-deliver-a-brilliant-30-second-introduction-07-27-2016-2717
END:VEVENT

END:VCALENDAR
