BEGIN:VCALENDAR
VERSION:2.0
PRODID:-//ChamberMaster//Event Calendar 2.0//EN
METHOD:PUBLISH
X-PUBLISHED-TTL:P3D
REFRESH-INTERVAL:P3D
CALSCALE:GREGORIAN
BEGIN:VEVENT
DTSTART:20160610T175000Z
DTEND:20160610T190000Z
X-MICROSOFT-CDO-ALLDAYEVENT:FALSE
SUMMARY:Member Event: How to Prepare & Deliver an Irresistible 30 Second Pitch
DESCRIPTION:How To Prepare and Deliver and Irresistible 30 Second Pitch\n\n \n\nJoin Craig Stout and Ramp up Your Networking Skills\n\n \n\nA well prepared 30 second pitch can set you apart from all the other boring or uninteresting pitches in any networking group. In this short seminar Craig will show you the basics so that every time you stand to speak you are interesting and able to effectively connect with your audience. You should leave the Lunch n Learn with at least 5 new 30 second pitches. It's a true working workshop. Bring a notebook.\n\n \n\n?@\n\nRSVP 303-885-2725
X-ALT-DESC;FMTTYPE=text/html:<p align="LEFT" dir="LTR"><span lang="EN">How To Prepare and Deliver and Irresistible 30 Second Pitch</span></p>\n\n<p align="LEFT" dir="LTR">&nbsp\;</p>\n\n<p align="LEFT" dir="LTR"><font face="Arial">Join Craig Stout and Ramp up Your Networking Skills</font></p>\n\n<p align="LEFT" dir="LTR">&nbsp\;</p>\n\n<p align="LEFT" dir="LTR"><font face="Arial">A well prepared 30 second pitch can set you apart from all the other boring or uninteresting pitches in any networking group. In this short seminar Craig will show you the basics so that every time you stand to speak you are interesting and able to effectively connect with your audience. You should leave the Lunch n Learn with at least 5 new 30 second pitches. It&rsquo\;s a true working workshop. Bring a notebook.</font></p>\n\n<p align="LEFT" dir="LTR">&nbsp\;</p>\n\n<p align="LEFT" dir="LTR"><font face="Arial">?@</font></p>\n\n<p align="LEFT" dir="LTR"><b><font color="#ff0000" face="Arial"><font color="#ff0000" face="Arial">RSVP 303-885-2725 </font></font></b></p>\n\n<p align="LEFT" dir="LTR">&nbsp\;</p>\n
LOCATION:Zoe's Coffee 11225 Decatur St #200 Westminster\, CO 80234
UID:e.2690.2441
SEQUENCE:3
DTSTAMP:20260422T134807Z
URL:https://www.westminsterchamber.biz/events/details/member-event-how-to-prepare-deliver-an-irresistible-30-second-pitch-06-10-2016-2441
END:VEVENT

END:VCALENDAR
