BEGIN:VCALENDAR
VERSION:2.0
PRODID:-//ChamberMaster//Event Calendar 2.0//EN
METHOD:PUBLISH
X-PUBLISHED-TTL:P3D
REFRESH-INTERVAL:P3D
CALSCALE:GREGORIAN
BEGIN:VEVENT
DTSTART:20161020T133000Z
DTEND:20161020T143000Z
X-MICROSOFT-CDO-ALLDAYEVENT:FALSE
SUMMARY:Member Event: Kaleidoscope of Hope Breakfast
DESCRIPTION:Join us to learn more about CASA\, the impact that we are having on the children in our community\, and how you can help make a difference.\n\n\n\nEnvision a bright future for every child!
X-ALT-DESC;FMTTYPE=text/html:Join us to learn more about CASA\, the impact that we are having on the children in our community\, and how you can help make a difference.<br />\n<br />\nEnvision a bright future for every child!
LOCATION:Stonebrook Manor 650 East 124th Avenue\, Thornton\, CO 80241
UID:e.2690.2739
SEQUENCE:3
DTSTAMP:20260422T070129Z
URL:https://www.westminsterchamber.biz/events/details/member-event-kaleidoscope-of-hope-breakfast-2739
END:VEVENT

END:VCALENDAR
