BEGIN:VCALENDAR
VERSION:2.0
PRODID:-//ChamberMaster//Event Calendar 2.0//EN
METHOD:PUBLISH
X-PUBLISHED-TTL:P3D
REFRESH-INTERVAL:P3D
CALSCALE:GREGORIAN
BEGIN:VEVENT
DTSTART:20161020T180000Z
DTEND:20161020T190000Z
X-MICROSOFT-CDO-ALLDAYEVENT:FALSE
SUMMARY:Member Event: Kaleidoscope of Hope Luncheon
DESCRIPTION:Join us to learn more about CASA\, the impact that we are having on the children in our community\, and how you can help make a difference.\n\nEnvision a bright future for every child!
X-ALT-DESC;FMTTYPE=text/html:Join us to learn more about CASA\, the impact that we are having on the children in our community\, and how you can help make a difference.<br />\nEnvision a bright future for every child!
LOCATION:Stonebrook Manor 650 East 124th Avenue\, Thronton\, CO 80241
UID:e.2690.2740
SEQUENCE:3
DTSTAMP:20260422T083803Z
URL:https://www.westminsterchamber.biz/events/details/member-event-kaleidoscope-of-hope-luncheon-2740
END:VEVENT

END:VCALENDAR
