BEGIN:VCALENDAR
VERSION:2.0
PRODID:-//ChamberMaster//Event Calendar 2.0//EN
METHOD:PUBLISH
X-PUBLISHED-TTL:P3D
REFRESH-INTERVAL:P3D
CALSCALE:GREGORIAN
BEGIN:VEVENT
DTSTART:20160729T160000Z
DTEND:20160729T200000Z
X-MICROSOFT-CDO-ALLDAYEVENT:FALSE
SUMMARY:Member Event: KBPI Open House at DaVinci Institute
DESCRIPTION:106.7 KBPI is the most listened to active rock station in Colorado. On July 29th\, DaVinci Coders will take center stage as Founder Futurist Speaker - Thomas Frey goes on the air in KBPI's famous Bud Light Suite with host Willie B. at 9am to kick off an Open House from 10:00am-2:00 pm at the DaVinci Institute's new facilities - 9191 Sheridan Blvd\, Suite 300\, Westminster\, Colorado.\n\nThe Open House will feature a number of activities\, food\, refreshments\, door prizes\, product demos\, workshops\, and drawings every 30 minutes for surprise giveaways.\n\n \n\nVisitors will learn about DaVinci Coders\, Colorado's premier coding school\, meet the staff and instructors\, take tours of the coworking facility and meet some of the resident startups that are reshaping the future of technology.\n\n \nFeel free to join us for this inspired networking experience and find out how to map out a new career path for you and your friends in the process.
X-ALT-DESC;FMTTYPE=text/html:<p><span style="color:rgb(0\, 0\, 0)\; font-family:arial\; font-size:14.6667px">106.7 KBPI is the most listened to active rock station in Colorado. On July 29th\, DaVinci Coders will take center stage as Founder Futurist Speaker - Thomas Frey goes on the air in KBPI&rsquo\;s famous Bud Light Suite with host Willie B. at 9am to kick off an Open House from 10:00am-2:00 pm at the DaVinci Institute&rsquo\;s new facilities - 9191 Sheridan Blvd\, Suite 300\, Westminster\, Colorado.</span></p>\n\n<p><span style="color:rgb(0\, 0\, 0)\; font-family:arial\; font-size:14.6667px">The Open House will feature a number of activities\, food\, refreshments\, door prizes\, product demos\, workshops\, and drawings every 30 minutes for surprise giveaways.</span><br />\n&nbsp\;</p>\n\n<p><span style="color:rgb(0\, 0\, 0)\; font-family:arial\; font-size:14.6667px">Visitors will learn about DaVinci Coders\, Colorado&rsquo\;s premier coding school\, meet the staff and instructors\, take tours of the coworking facility and meet some of the resident startups that are reshaping the future of technology.</span><br />\n&nbsp\;</p>\n<span style="color:rgb(0\, 0\, 0)\; font-family:arial\; font-size:14.6667px">Feel free to join us for this inspired networking experience and find out how to map out a new career path for you and your friends in the process.</span>
LOCATION:DaVinci Institute
UID:e.2690.2711
SEQUENCE:3
DTSTAMP:20260422T113801Z
URL:https://www.westminsterchamber.biz/events/details/member-event-kbpi-open-house-at-davinci-institute-07-29-2016-2711
END:VEVENT

END:VCALENDAR
