BEGIN:VCALENDAR
VERSION:2.0
PRODID:-//ChamberMaster//Event Calendar 2.0//EN
METHOD:PUBLISH
X-PUBLISHED-TTL:P3D
REFRESH-INTERVAL:P3D
CALSCALE:GREGORIAN
BEGIN:VEVENT
DTSTART:20160520T000000Z
DTEND:20160520T020000Z
X-MICROSOFT-CDO-ALLDAYEVENT:FALSE
SUMMARY:Member Event: Ladies Night of Indulgence
DESCRIPTION:The third annual Ladies Night benefiting Safe House of Denver. This is a night for women in the community to come out and get pampered by local businesses. We will have massages\, facials\, jewelry\, hair styling\, waxing\, food drinks and more! It is only $10 to get in and 100% of that goes to Safe House.
X-ALT-DESC;FMTTYPE=text/html:The third annual Ladies Night benefiting Safe House of Denver. This is a night for women in the community to come out and get pampered by local businesses. We will have massages\, facials\, jewelry\, hair styling\, waxing\, food drinks and more! It is only $10 to get in and 100% of that goes to Safe House.
LOCATION:Massage Rose 7621 W. 88th Ave\, Westminster\, CO 80005
UID:e.2690.2170
SEQUENCE:3
DTSTAMP:20260422T151931Z
URL:https://www.westminsterchamber.biz/events/details/member-event-ladies-night-of-indulgence-05-19-2016-2170
END:VEVENT

END:VCALENDAR
