BEGIN:VCALENDAR
VERSION:2.0
PRODID:-//ChamberMaster//Event Calendar 2.0//EN
METHOD:PUBLISH
X-PUBLISHED-TTL:P3D
REFRESH-INTERVAL:P3D
CALSCALE:GREGORIAN
BEGIN:VEVENT
DTSTART:20160621T170000Z
DTEND:20160621T180000Z
X-MICROSOFT-CDO-ALLDAYEVENT:FALSE
SUMMARY:Member Event: Lunch & Learn: Credit Card Processing with Confidence\, Are Your Customers Safe?
DESCRIPTION:Join us for a Lunch & Learn that will keep your clients safe and your business confident!  If you have questions such as these:\n\n	Should I be using Apple Pay or Samsung Pay?\n	Why do my chipped cards work at one Retailer and not the other?\n	Is EMV important to me?\n\n\n\nThen attend "Credit Card Processing with Confidence: Are Your Customers Safe?" at Zoe's Coffee on June 21st from 11:00 am - Noon.
X-ALT-DESC;FMTTYPE=text/html:Join us for a Lunch &amp\; Learn that will keep your clients safe and your business confident!&nbsp\; If you have questions such as these:\n<ul>\n	<li>Should I be using Apple Pay or Samsung Pay?</li>\n	<li>Why do my chipped cards work at one Retailer and not the other?</li>\n	<li>Is EMV important to me?</li>\n</ul>\n<br />\nThen attend &quot\;Credit Card Processing with Confidence: Are Your Customers Safe?&quot\; at Zoe&#39\;s Coffee on June 21st from 11:00 am - Noon.
LOCATION:Zoe's Coffee 11225 Decatur Street Westminster\, CO 80234
UID:e.2690.2706
SEQUENCE:3
DTSTAMP:20260422T133358Z
URL:https://www.westminsterchamber.biz/events/details/member-event-lunch-learn-credit-card-processing-with-confidence-are-your-customers-safe-06-21-2016-2706
END:VEVENT

END:VCALENDAR
