BEGIN:VCALENDAR
VERSION:2.0
PRODID:-//ChamberMaster//Event Calendar 2.0//EN
METHOD:PUBLISH
X-PUBLISHED-TTL:P3D
REFRESH-INTERVAL:P3D
CALSCALE:GREGORIAN
BEGIN:VEVENT
DTSTART:20161231T210000Z
DTEND:20170101T050000Z
X-MICROSOFT-CDO-ALLDAYEVENT:FALSE
SUMMARY:Member Event: New Year's Eve Party with Pinot's Palette Sip & Paint Studio!
DESCRIPTION:Join Pinot's Palette on New Year's Eve for Free Champagne and Chocolates during our afternoon and night class! We will be painting 'My Wish' at 2-4PM: https://www.pinotspalette.com/westminsternorth/event/133741 At night we will be painting the infamous Van Gogh's Starry Night: https://www.pinotspalette.com/westminsternorth/event/128732 Sign up online or call and make your reservation! We will also give a FREE glass of wine for every registration!
X-ALT-DESC;FMTTYPE=text/html:Join Pinot&#39\;s Palette on New Year&#39\;s Eve for Free Champagne and Chocolates during our afternoon and night class! We will be painting &#39\;My Wish&#39\; at 2-4PM: https://www.pinotspalette.com/westminsternorth/event/133741 At night we will be painting the infamous Van Gogh&#39\;s Starry Night: https://www.pinotspalette.com/westminsternorth/event/128732 Sign up online or call and make your reservation! We will also give a FREE glass of wine for every registration!&nbsp\;
LOCATION:14315 Orchard Pakrway\, Suite 200 Westminster\, CO 80023. We are located in Orchard Park Place. I25 South\, to exit 226. Turn West on 144th\, then turn South on Orchard Parkway. We are right between Costa Vida Mexican Resaurant and Jimmy Johns!
UID:e.2690.2898
SEQUENCE:3
DTSTAMP:20260422T032557Z
URL:https://www.westminsterchamber.biz/events/details/member-event-new-year-s-eve-party-with-pinot-s-palette-sip-paint-studio-2898
END:VEVENT

END:VCALENDAR
