BEGIN:VCALENDAR
VERSION:2.0
PRODID:-//ChamberMaster//Event Calendar 2.0//EN
METHOD:PUBLISH
X-PUBLISHED-TTL:P3D
REFRESH-INTERVAL:P3D
CALSCALE:GREGORIAN
BEGIN:VEVENT
DTSTART:20161214T013000Z
DTEND:20161214T033000Z
X-MICROSOFT-CDO-ALLDAYEVENT:FALSE
SUMMARY:Member Event: Night with a Futurist: How to Thrive and Succeed During Our Current World Paradigm Shift
DESCRIPTION:"We stand at the precipice of a unique moment in time\, a window into a new world. The question is\, will we look through that window\, or go through?" - Chet Sisk\n\n\n\nWhenever someone mentions artificial intelligence\, robotics\, the elimination of jobs\, the Internet of things\, or the sharing economy\, you begin to get a sense of the seismic shift we are beginning to work our way through. In short\, we are in the middle of one of the greatest transformations the world has ever seen. You can either share in its abundance or get left behind .it all depends on what plans you make right now.\n\n\n\nSocial Futurist and author Chet W. Sisk has spoken around the world and the United Nations about this change. He'll shares evidence-based models and a solutions-oriented approach to the next 5-7 years by providing a list of the top things you must do right now to thrive and succeed in this transforming world.\n\n\n\nJoin us for this deep thinker's approach to mastering the world ahead.\n\n \n\nBIO:  \n\nChet is a Social Futurist\, author and speaker. He is the founder of LEAD Global\, a transformation leadership development consultancy organization.\n\n\n\nChet also serves as Leadership Development Specialist to the World Assembly of Youth\, an organization created by the United Nations in 1949. He has worked and travelled around the world. Some of the countries he has served in include Hungary\, The Sudan\, Namibia\, South Africa\, Puerto Rico\, Bahrain\, Morocco\, France\, The Netherlands\, China\, Malaysia\, Spain\, Albania and other points around the world.\n\n\n\nChet has written several books about personal and corporate transformation. His focus for the past 10 years has been about the rapid technological transformation of society and how it affects our leadership and our personal beliefs.
X-ALT-DESC;FMTTYPE=text/html:<p><strong>&ldquo\;We stand at the precipice of a unique moment in time\, a window into a new world. The question is\, will we look through that window\, or go through?&rdquo\; - Chet Sisk</strong><br />\n<br />\nWhenever someone mentions artificial intelligence\, robotics\, the elimination of jobs\, the Internet of things\, or the sharing economy\, you begin to get a sense of the seismic shift we are beginning to work our way through. In short\, we are in the middle of one of the greatest transformations the world has ever seen. You can either share in its abundance or get left behind&hellip\;.it all depends on what plans you make right now.<br />\n<br />\nSocial Futurist and author Chet W. Sisk has spoken around the world and the United Nations about this change. He&rsquo\;ll shares evidence-based models and a solutions-oriented approach to the next 5-7 years by providing a list of the top things you must do right now to thrive and succeed in this transforming world.<br />\n<br />\nJoin us for this deep thinker&#39\;s approach to mastering the world ahead.</p>\n\n<div>&nbsp\;</div>\n\n<p><strong>BIO: &nbsp\;</strong></p>\n\n<p>Chet is a Social Futurist\, author and speaker. He is the founder of LEAD Global\, a transformation leadership development consultancy organization.<br />\n<br />\nChet also serves as Leadership Development Specialist to the World Assembly of Youth\, an organization created by the United Nations in 1949. He has worked and travelled around the world. Some of the countries he has served in include Hungary\, The Sudan\, Namibia\, South Africa\, Puerto Rico\, Bahrain\, Morocco\, France\, The Netherlands\, China\, Malaysia\, Spain\, Albania and other points around the world.<br />\n<br />\nChet has written several books about personal and corporate transformation. His focus for the past 10 years has been about the rapid technological transformation of society and how it affects our leadership and our personal beliefs.</p>\n
LOCATION:DaVinci Institute 9191 N. Sheridan Blvd\, Ste 300 Westminster\, CO 80031
UID:e.2690.2889
SEQUENCE:3
DTSTAMP:20260422T050325Z
URL:https://www.westminsterchamber.biz/events/details/member-event-night-with-a-futurist-how-to-thrive-and-succeed-during-our-current-world-paradigm-shift-2889
END:VEVENT

END:VCALENDAR
