BEGIN:VCALENDAR
VERSION:2.0
PRODID:-//ChamberMaster//Event Calendar 2.0//EN
METHOD:PUBLISH
X-PUBLISHED-TTL:P3D
REFRESH-INTERVAL:P3D
CALSCALE:GREGORIAN
BEGIN:VEVENT
DTSTART:20160817T003000Z
DTEND:20160817T023000Z
X-MICROSOFT-CDO-ALLDAYEVENT:FALSE
SUMMARY:Member Event Night with a Futurist: Planning for the Future of Artificial Intelligence
DESCRIPTION:Use the discount code 'AIFUTURE' for save $5 on admission.\n\nIn the tech world\, artificial intelligence (AI) has become one of today's hottest topics with enormous amounts of funding being channeled towards developing machines capable of intelligent behavior. After years of steady but slow progress\, a series of breakthroughs in the research community and private industry have recently garnered a lot of attention for this field.\n\nToday's AI is confined to narrow\, specific tasks\, and isn't anything like the general\, adaptable intelligence that humans exhibit. Despite this\, AI's influence on the world is growing. The rate of progress we have seen will have broad implications for a variety of fields including healthcare\, agriculture\, education\, manufacturing\, image and voice-recognition\, transportation\, entertainment\, and much more.\n\nIn education\, AI has the potential to help teachers customize instruction for each student's needs. And\, of course\, AI plays a key role in self-driving vehicles\, which have the potential to save thousands of lives\, as well as in unmanned aircraft systems\, which may transform global transportation\, logistics systems\, and countless other industries over the coming decades.\n\nLike any transformative technology\, just looking at the upside of artificial intelligence does not give us the full picture. It also comes with a challenging downside ranging from technological unemployment to economic and regulatory issues. \n\nJoin us as we take an in-depth look at the far-reaching implications of artificial intelligence and the future.
X-ALT-DESC;FMTTYPE=text/html:<p>Use the discount code &#39\;AIFUTURE&#39\; for save $5 on admission.</p>\n\n<p>In the tech world\, artificial intelligence (AI) has become one of today&rsquo\;s hottest topics with enormous amounts of funding being channeled towards developing machines capable of intelligent behavior. After years of steady but slow progress\, a series of breakthroughs in the research community and private industry have recently garnered a lot of attention for this field.</p>\n\n<p>Today&rsquo\;s AI is confined to narrow\, specific tasks\, and isn&rsquo\;t anything like the general\, adaptable intelligence that humans exhibit. Despite this\, AI&rsquo\;s influence on the world is growing. The rate of progress we have seen will have broad implications for a variety of fields including healthcare\, agriculture\, education\, manufacturing\, image and voice-recognition\, transportation\, entertainment\, and much more.</p>\n\n<p>In education\, AI has the potential to help teachers customize instruction for each student&rsquo\;s needs. And\, of course\, AI plays a key role in self-driving vehicles\, which have the potential to save thousands of lives\, as well as in unmanned aircraft systems\, which may transform global transportation\, logistics systems\, and countless other industries over the coming decades.</p>\n\n<p>Like any transformative technology\, just looking at the upside of artificial intelligence does not give us the full picture. It also comes with a challenging downside ranging from technological unemployment to economic and regulatory issues.&nbsp\;</p>\n\n<p>Join us as we take an in-depth look at the far-reaching implications of artificial intelligence and the future.</p>\n&nbsp\;\n\n<p>&nbsp\;</p>\n\n<div>&nbsp\;</div>\n
LOCATION:DaVinci Institute 9191 N. Sheridan Blvd\, Ste 300 Westminster\, CO 80031
UID:e.2690.2725
SEQUENCE:3
DTSTAMP:20260422T095917Z
URL:https://www.westminsterchamber.biz/events/details/member-event-night-with-a-futurist-planning-for-the-future-of-artificial-intelligence-2725
END:VEVENT

END:VCALENDAR
